BEGIN:VCALENDAR
VERSION:2.0
PRODID:-//Brewery Collectibles Club of America® - ECPv5.16.4//NONSGML v1.0//EN
CALSCALE:GREGORIAN
METHOD:PUBLISH
X-ORIGINAL-URL:https://www.bcca.com
X-WR-CALDESC:Events for Brewery Collectibles Club of America®
REFRESH-INTERVAL;VALUE=DURATION:PT1H
X-Robots-Tag:noindex
X-PUBLISHED-TTL:PT1H
BEGIN:VTIMEZONE
TZID:America/Chicago
BEGIN:DAYLIGHT
TZOFFSETFROM:-0600
TZOFFSETTO:-0500
TZNAME:CDT
DTSTART:20220313T080000
END:DAYLIGHT
BEGIN:STANDARD
TZOFFSETFROM:-0500
TZOFFSETTO:-0600
TZNAME:CST
DTSTART:20221106T070000
END:STANDARD
END:VTIMEZONE
BEGIN:VEVENT
DTSTART;TZID=America/Chicago:20220319T090000
DTEND;TZID=America/Chicago:20220319T143000
DTSTAMP:20220906T062301
CREATED:20210123T012508Z
LAST-MODIFIED:20220130T225442Z
UID:78792-1647680400-1647700200@www.bcca.com
SUMMARY:16th Annual Port of Potosi Show - Sponsored by the Port of Potosi Chapter
DESCRIPTION:The 16th Annual Port of Potosi Beer Show. St. Andrew-Thomas School. Saturday\, March 19th\, 2022. $3.00 admission. Buy\, Sell\, Trade Old Beer and Brewery Items.
URL:https://www.bcca.com/event2/15th-annual-breweriana-collectibles-show-sponsored-by-the-port-of-potosi-chapter/
LOCATION:St. Andrew-Thomas Catholic School\, 100 US Hwy 61 N\, Potosi\, WI\, 53820\, United States
CATEGORIES:BCCA Chapter Show,Wisconsin
ATTACH;FMTTYPE=image/png:https://www.bcca.com/wp-content/uploads/2020/09/portpotosi.png
GEO:42.6882412;-90.6901398
X-APPLE-STRUCTURED-LOCATION;VALUE=URI;X-ADDRESS=St. Andrew-Thomas Catholic School 100 US Hwy 61 N Potosi WI 53820 United States;X-APPLE-RADIUS=500;X-TITLE=100 US Hwy 61 N:geo:-90.6901398,42.6882412
END:VEVENT
END:VCALENDAR