BEGIN:VCALENDAR
VERSION:2.0
PRODID:-//Brewery Collectibles Club of America® - ECPv5.16.4//NONSGML v1.0//EN
CALSCALE:GREGORIAN
METHOD:PUBLISH
X-ORIGINAL-URL:https://www.bcca.com
X-WR-CALDESC:Events for Brewery Collectibles Club of America®
REFRESH-INTERVAL;VALUE=DURATION:PT1H
X-Robots-Tag:noindex
X-PUBLISHED-TTL:PT1H
BEGIN:VTIMEZONE
TZID:America/Chicago
BEGIN:DAYLIGHT
TZOFFSETFROM:-0600
TZOFFSETTO:-0500
TZNAME:CDT
DTSTART:20220313T080000
END:DAYLIGHT
BEGIN:STANDARD
TZOFFSETFROM:-0500
TZOFFSETTO:-0600
TZNAME:CST
DTSTART:20221106T070000
END:STANDARD
END:VTIMEZONE
BEGIN:VEVENT
DTSTART;TZID=America/Chicago:20220514T080000
DTEND;TZID=America/Chicago:20220514T140000
DTSTAMP:20220906T055401
CREATED:20201213T154203Z
LAST-MODIFIED:20220123T175741Z
UID:77787-1652515200-1652536800@www.bcca.com
SUMMARY:Texas Brewery Collectibles Show – Sponsored by Bluebonnet & Lone Star Chapters
DESCRIPTION:Since 1978 The BEST show in Texas for Beer Advertising Collectibles \nFriday May 13\n12:00 – 2:30 Spoetzl Brewery meetup\n3:00 – 5:00 Moravia Store (Saloon)\n5:30- till? Beer & Grillin at the Hotel Texas ispon Hallettsville.
URL:https://www.bcca.com/event2/texas-bcs/
LOCATION:Spoetzl Brewery\, 603 E. Brewery St.\, Shiner\, TX\, 77984\, United States
CATEGORIES:BCCA Chapter Show,Texas
ATTACH;FMTTYPE=image/png:https://www.bcca.com/wp-content/uploads/2020/09/lonestar.png
ORGANIZER;CN="Charlie%20Staats":MAILTO:lonepearl63@gmail.com
GEO:29.433337;-97.16739
X-APPLE-STRUCTURED-LOCATION;VALUE=URI;X-ADDRESS=Spoetzl Brewery 603 E. Brewery St. Shiner TX 77984 United States;X-APPLE-RADIUS=500;X-TITLE=603 E. Brewery St.:geo:-97.16739,29.433337
END:VEVENT
END:VCALENDAR