BEGIN:VCALENDAR
VERSION:2.0
PRODID:-//Brewery Collectibles Club of America® - ECPv5.16.4//NONSGML v1.0//EN
CALSCALE:GREGORIAN
METHOD:PUBLISH
X-WR-CALNAME:Brewery Collectibles Club of America®
X-ORIGINAL-URL:https://www.bcca.com
X-WR-CALDESC:Events for Brewery Collectibles Club of America®
REFRESH-INTERVAL;VALUE=DURATION:PT1H
X-Robots-Tag:noindex
X-PUBLISHED-TTL:PT1H
BEGIN:VTIMEZONE
TZID:America/Chicago
BEGIN:DAYLIGHT
TZOFFSETFROM:-0600
TZOFFSETTO:-0500
TZNAME:CDT
DTSTART:20220313T080000
END:DAYLIGHT
BEGIN:STANDARD
TZOFFSETFROM:-0500
TZOFFSETTO:-0600
TZNAME:CST
DTSTART:20221106T070000
END:STANDARD
END:VTIMEZONE
BEGIN:VEVENT
DTSTART;TZID=America/Chicago:20220227T090000
DTEND;TZID=America/Chicago:20220227T130000
DTSTAMP:20220906T055549
CREATED:20220216T233752Z
LAST-MODIFIED:20220216T235456Z
UID:86149-1645952400-1645966800@www.bcca.com
SUMMARY:Lawrence Beer Can Show - Sponsored by the Carrie Nation Chapter
DESCRIPTION:Set Em Up Jacks is a restaurant/bar. Bring a couple of totes and enjoy some fellowship; shake off the winter chill and take home some new cans. There will be a raffle\, drink specials and the food is very good. Not bar food. Through March\, Douglas County is under a mask requirement\, please bring one with you. Hope to see you there.
URL:https://www.bcca.com/event2/lawrence-beer-can-show/
LOCATION:Set Em UP Jacks\, 1800 E. 23rd Street\, Lawrence\, KS\, 66046\, United States
CATEGORIES:BCCA Chapter Show,Kansas
ORGANIZER;CN="Kevin%20Kelly":MAILTO:kukhawk@msn.com
GEO:38.9433388;-95.2116806
X-APPLE-STRUCTURED-LOCATION;VALUE=URI;X-ADDRESS=Set Em UP Jacks 1800 E. 23rd Street Lawrence KS 66046 United States;X-APPLE-RADIUS=500;X-TITLE=1800 E. 23rd Street:geo:-95.2116806,38.9433388
END:VEVENT
END:VCALENDAR