BEGIN:VCALENDAR
VERSION:2.0
PRODID:-//Brewery Collectibles Club of America® - ECPv5.16.4//NONSGML v1.0//EN
CALSCALE:GREGORIAN
METHOD:PUBLISH
X-ORIGINAL-URL:https://www.bcca.com
X-WR-CALDESC:Events for Brewery Collectibles Club of America®
REFRESH-INTERVAL;VALUE=DURATION:PT1H
X-Robots-Tag:noindex
X-PUBLISHED-TTL:PT1H
BEGIN:VTIMEZONE
TZID:America/Phoenix
BEGIN:STANDARD
TZOFFSETFROM:-0700
TZOFFSETTO:-0700
TZNAME:MST
DTSTART:20220101T000000
END:STANDARD
END:VTIMEZONE
BEGIN:VEVENT
DTSTART;TZID=America/Phoenix:20220320T090000
DTEND;TZID=America/Phoenix:20220320T140000
DTSTAMP:20220906T062328
CREATED:20210222T224258Z
LAST-MODIFIED:20211206T041233Z
UID:79340-1647766800-1647784800@www.bcca.com
SUMMARY:A-1 Chapter Spring Show - Sponsored by the A-1 Chapter
DESCRIPTION:Buy/Sell/Trade Show.
URL:https://www.bcca.com/event2/a-1-spring/
LOCATION:Raceway Bar & Grill\, 49237 West Papago Road\, Maricopa\, AZ\, 85139\, United States
CATEGORIES:Arizona,BCCA Chapter Show
ATTACH;FMTTYPE=image/jpeg:https://www.bcca.com/wp-content/uploads/2020/09/A-1-a.jpg
ORGANIZER;CN="Kent%20Grant":MAILTO:texzona58@gmail.com
GEO:32.983881;-112.0969598
X-APPLE-STRUCTURED-LOCATION;VALUE=URI;X-ADDRESS=Raceway Bar & Grill 49237 West Papago Road Maricopa AZ 85139 United States;X-APPLE-RADIUS=500;X-TITLE=49237 West Papago Road:geo:-112.0969598,32.983881
END:VEVENT
END:VCALENDAR