BEGIN:VCALENDAR
VERSION:2.0
PRODID:-//Brewery Collectibles Club of America® - ECPv5.16.4//NONSGML v1.0//EN
CALSCALE:GREGORIAN
METHOD:PUBLISH
X-WR-CALNAME:Brewery Collectibles Club of America®
X-ORIGINAL-URL:https://www.bcca.com
X-WR-CALDESC:Events for Brewery Collectibles Club of America®
REFRESH-INTERVAL;VALUE=DURATION:PT1H
X-Robots-Tag:noindex
X-PUBLISHED-TTL:PT1H
BEGIN:VTIMEZONE
TZID:America/New_York
BEGIN:DAYLIGHT
TZOFFSETFROM:-0500
TZOFFSETTO:-0400
TZNAME:EDT
DTSTART:20210314T070000
END:DAYLIGHT
BEGIN:STANDARD
TZOFFSETFROM:-0400
TZOFFSETTO:-0500
TZNAME:EST
DTSTART:20211107T060000
END:STANDARD
BEGIN:DAYLIGHT
TZOFFSETFROM:-0500
TZOFFSETTO:-0400
TZNAME:EDT
DTSTART:20220313T070000
END:DAYLIGHT
BEGIN:STANDARD
TZOFFSETFROM:-0400
TZOFFSETTO:-0500
TZNAME:EST
DTSTART:20221106T060000
END:STANDARD
END:VTIMEZONE
BEGIN:VEVENT
DTSTART;TZID=America/New_York:20211030T090000
DTEND;TZID=America/New_York:20211030T140000
DTSTAMP:20220906T055944
CREATED:20210919T202931Z
LAST-MODIFIED:20210919T204257Z
UID:82996-1635584400-1635602400@www.bcca.com
SUMMARY:12 Horse Hoot & Howl - Sponsored by the 12 Horse Chapter
DESCRIPTION:This is the 5th annual Hoot & Howl\nWe are back inside at the Union Hall\nOur show is Saturday\, October 30\, 2021\n9:00 AM to2:00 PM\nTrade Table set up is at 8:00 AM\nThe show is free and open to the public and opens at 9:00 AM\nThe show will be held at:\nPlumbers & Steamfitters\nLocal no. 13 Union Hall\n1850 Mt. Read Blvd\nRochester\, New York 14615 \nFor Table information please contact: \nContact: John Robson\nEmail: Click Here\nPhone:  (585) 202 – 0647
URL:https://www.bcca.com/event2/12-horse-hoot-howl/
LOCATION:Plumbers & Steamfitters Local No. 13 Union Hall\, 1850 Mt. Read Blvd\, Rochester\, NY\, 14516\, United States
CATEGORIES:BCCA Chapter Show,New York
ATTACH;FMTTYPE=image/png:https://www.bcca.com/wp-content/uploads/2020/09/12horse.png
ORGANIZER;CN="John%20Robson":MAILTO:JR66SS@rochester.rr.com
GEO:43.187913;-77.658302
X-APPLE-STRUCTURED-LOCATION;VALUE=URI;X-ADDRESS=Plumbers & Steamfitters Local No. 13 Union Hall 1850 Mt. Read Blvd Rochester NY 14516 United States;X-APPLE-RADIUS=500;X-TITLE=1850 Mt. Read Blvd:geo:-77.658302,43.187913
END:VEVENT
BEGIN:VEVENT
DTSTART;TZID=America/New_York:20220430T090000
DTEND;TZID=America/New_York:20220430T140000
DTSTAMP:20220906T055944
CREATED:20220123T155713Z
LAST-MODIFIED:20220123T155713Z
UID:85522-1651309200-1651327200@www.bcca.com
SUMMARY:12 Horse Chapter Flour City Trade – Sponsored by the 12 Horse Chapter
DESCRIPTION:12 Horse will be hosting is 14th annual Spring Trade brewery collectibles show on Saturday April 30th 2022. \nThe show will run from 9:00 AM to 2:00 PM \nThe show is held at:\nPlumbers & Steamfitters\nLocal No. 13 Union Hall\n1850 Mt Read Blvd\nRochester\, New York 14615 \nTables are $10 (8 footers)\nWe have a 65 table capacity.\nif you would like a table please contact Brian Coughlin BCCA # 27544\nEmail 12.horse-chapter@rochester.rr.com\nThis show sells out quick don’t wait.new
URL:https://www.bcca.com/event2/flour-city-trade/
LOCATION:Plumbers & Steamfitters Local No. 13 Union Hall\, 1850 Mt. Read Blvd\, Rochester\, NY\, 14516\, United States
ATTACH;FMTTYPE=image/png:https://www.bcca.com/wp-content/uploads/2020/09/12horse.png
ORGANIZER;CN="Brian%20Coughlin":MAILTO:12.horse-chapter@rochester.rr.com
GEO:43.187913;-77.658302
X-APPLE-STRUCTURED-LOCATION;VALUE=URI;X-ADDRESS=Plumbers & Steamfitters Local No. 13 Union Hall 1850 Mt. Read Blvd Rochester NY 14516 United States;X-APPLE-RADIUS=500;X-TITLE=1850 Mt. Read Blvd:geo:-77.658302,43.187913
END:VEVENT
END:VCALENDAR