BEGIN:VCALENDAR
VERSION:2.0
PRODID:-//Brewery Collectibles Club of America® - ECPv5.16.4//NONSGML v1.0//EN
CALSCALE:GREGORIAN
METHOD:PUBLISH
X-WR-CALNAME:Brewery Collectibles Club of America®
X-ORIGINAL-URL:https://www.bcca.com
X-WR-CALDESC:Events for Brewery Collectibles Club of America®
REFRESH-INTERVAL;VALUE=DURATION:PT1H
X-Robots-Tag:noindex
X-PUBLISHED-TTL:PT1H
BEGIN:VTIMEZONE
TZID:America/Detroit
BEGIN:DAYLIGHT
TZOFFSETFROM:-0500
TZOFFSETTO:-0400
TZNAME:EDT
DTSTART:20220313T070000
END:DAYLIGHT
BEGIN:STANDARD
TZOFFSETFROM:-0400
TZOFFSETTO:-0500
TZNAME:EST
DTSTART:20221106T060000
END:STANDARD
END:VTIMEZONE
BEGIN:VEVENT
DTSTART;TZID=America/Detroit:20220618T090000
DTEND;TZID=America/Detroit:20220618T130000
DTSTAMP:20220906T062113
CREATED:20210412T001935Z
LAST-MODIFIED:20220221T005317Z
UID:80250-1655542800-1655557200@www.bcca.com
SUMMARY:Summer Blast Beer Collectibles Show - Sponsored by the Olde Frothingslosh Chapter
DESCRIPTION:Spring on over to our Summer Blast at the Penn Rod & Gun Club. This is a great buy/sell/trade breweriana show! Great Raffle and 50/50! Hurry over and enjoy some good cold brews and great comradery! \nsummer-blast-2022-show
URL:https://www.bcca.com/event2/of-summer-blast/
LOCATION:Penn Rod and Gun Club\, 602 Coal Street\, Penn\, PA\, 15675\, United States
CATEGORIES:BCCA Chapter Show,Pennsylvania
ATTACH;FMTTYPE=image/png:https://www.bcca.com/wp-content/uploads/2020/09/oldefroth.png
ORGANIZER;CN="Jerry%20Lorenz":MAILTO:oldefroth011@gmail.com
GEO:40.3283173;-79.6407147
X-APPLE-STRUCTURED-LOCATION;VALUE=URI;X-ADDRESS=Penn Rod and Gun Club 602 Coal Street Penn PA 15675 United States;X-APPLE-RADIUS=500;X-TITLE=602 Coal Street:geo:-79.6407147,40.3283173
END:VEVENT
END:VCALENDAR