BEGIN:VCALENDAR
VERSION:2.0
PRODID:-//Brewery Collectibles Club of America® - ECPv5.16.4//NONSGML v1.0//EN
CALSCALE:GREGORIAN
METHOD:PUBLISH
X-ORIGINAL-URL:https://www.bcca.com
X-WR-CALDESC:Events for Brewery Collectibles Club of America®
REFRESH-INTERVAL;VALUE=DURATION:PT1H
X-Robots-Tag:noindex
X-PUBLISHED-TTL:PT1H
BEGIN:VTIMEZONE
TZID:America/Chicago
BEGIN:DAYLIGHT
TZOFFSETFROM:-0600
TZOFFSETTO:-0500
TZNAME:CDT
DTSTART:20210314T080000
END:DAYLIGHT
BEGIN:STANDARD
TZOFFSETFROM:-0500
TZOFFSETTO:-0600
TZNAME:CST
DTSTART:20211107T070000
END:STANDARD
END:VTIMEZONE
BEGIN:VEVENT
DTSTART;TZID=America/Chicago:20211120T120000
DTEND;TZID=America/Chicago:20211120T150000
DTSTAMP:20220906T061951
CREATED:20191122T014743Z
LAST-MODIFIED:20210603T024010Z
UID:69242-1637409600-1637420400@www.bcca.com
SUMMARY:Kato Beer Show - Sponsored by Schell's Border Batch
DESCRIPTION:Bring your own table to the Mankato Brewing Company for an indoor buy-sell-trade session. All breweriana and cans welcome. Taproom is open and a food truck on site. This is a great late fall show to stock up before the holidays. Set up from 11 a.m. till Noon.
URL:https://www.bcca.com/event2/kato-show/
LOCATION:Mankato Brewing Company\, 1119 Center Street\, North Mankato\, MN\, 56003\, United States
CATEGORIES:BCCA Chapter Show,Minnesota
ATTACH;FMTTYPE=image/png:https://www.bcca.com/wp-content/uploads/2020/09/schells.png
ORGANIZER;CN="Tom%20Terwilliger":MAILTO:schellsguy@outlook.com
GEO:44.1814886;-94.0140789
X-APPLE-STRUCTURED-LOCATION;VALUE=URI;X-ADDRESS=Mankato Brewing Company 1119 Center Street North Mankato MN 56003 United States;X-APPLE-RADIUS=500;X-TITLE=1119 Center Street:geo:-94.0140789,44.1814886
END:VEVENT
END:VCALENDAR