BEGIN:VCALENDAR
VERSION:2.0
PRODID:-//Brewery Collectibles Club of America® - ECPv5.16.4//NONSGML v1.0//EN
CALSCALE:GREGORIAN
METHOD:PUBLISH
X-WR-CALNAME:Brewery Collectibles Club of America®
X-ORIGINAL-URL:https://www.bcca.com
X-WR-CALDESC:Events for Brewery Collectibles Club of America®
REFRESH-INTERVAL;VALUE=DURATION:PT1H
X-Robots-Tag:noindex
X-PUBLISHED-TTL:PT1H
BEGIN:VTIMEZONE
TZID:America/Detroit
BEGIN:DAYLIGHT
TZOFFSETFROM:-0500
TZOFFSETTO:-0400
TZNAME:EDT
DTSTART:20220313T070000
END:DAYLIGHT
BEGIN:STANDARD
TZOFFSETFROM:-0400
TZOFFSETTO:-0500
TZNAME:EST
DTSTART:20221106T060000
END:STANDARD
END:VTIMEZONE
BEGIN:VEVENT
DTSTART;TZID=America/Detroit:20220424T080000
DTEND;TZID=America/Detroit:20220424T133000
DTSTAMP:20220906T053455
CREATED:20210322T030547Z
LAST-MODIFIED:20220327T195615Z
UID:80019-1650787200-1650807000@www.bcca.com
SUMMARY:Spring Fling – Sponsored by the Gambrinus Chapter
DESCRIPTION:The only buy\, sell\, trade show in Columbus Ohio. Nice raffle with neon. \nKing-Spring-Fling-2022
URL:https://www.bcca.com/event2/gambrinus-spring-fling/
LOCATION:Makoy Center\, 5462 N. Center Street\, Hilliard\, OH\, 43026\, United States
CATEGORIES:BCCA Chapter Show,Ohio
ATTACH;FMTTYPE=image/png:https://www.bcca.com/wp-content/uploads/2020/09/Gambrinus.png
ORGANIZER;CN="Doug%20Blegen":MAILTO:Dblegen@msconsultants.com
GEO:40.0372258;-83.1637115
X-APPLE-STRUCTURED-LOCATION;VALUE=URI;X-ADDRESS=Makoy Center 5462 N. Center Street Hilliard OH 43026 United States;X-APPLE-RADIUS=500;X-TITLE=5462 N. Center Street:geo:-83.1637115,40.0372258
END:VEVENT
END:VCALENDAR