BEGIN:VCALENDAR
VERSION:2.0
PRODID:-//Brewery Collectibles Club of America® - ECPv5.16.4//NONSGML v1.0//EN
CALSCALE:GREGORIAN
METHOD:PUBLISH
X-ORIGINAL-URL:https://www.bcca.com
X-WR-CALDESC:Events for Brewery Collectibles Club of America®
REFRESH-INTERVAL;VALUE=DURATION:PT1H
X-Robots-Tag:noindex
X-PUBLISHED-TTL:PT1H
BEGIN:VTIMEZONE
TZID:America/Detroit
BEGIN:DAYLIGHT
TZOFFSETFROM:-0500
TZOFFSETTO:-0400
TZNAME:EDT
DTSTART:20210314T070000
END:DAYLIGHT
BEGIN:STANDARD
TZOFFSETFROM:-0400
TZOFFSETTO:-0500
TZNAME:EST
DTSTART:20211107T060000
END:STANDARD
END:VTIMEZONE
BEGIN:VEVENT
DTSTART;TZID=America/Detroit:20211128T080000
DTEND;TZID=America/Detroit:20211128T140000
DTSTAMP:20220906T060216
CREATED:20201026T021442Z
LAST-MODIFIED:20211106T021935Z
UID:76395-1638086400-1638108000@www.bcca.com
SUMMARY:Sunday After Thanksgiving Show - Sponsored by the Queen City Chapter
DESCRIPTION:Annual Show at NEW location: Little Miami Brewing Co. Located on the beautiful Little Miami River. Walk-ins $5\, Admission with table only $15
URL:https://www.bcca.com/event2/queen-city-thanksgiving/
LOCATION:Little Miami Brewing Co.\, 208 Mill St.\, Milford\, OH\, Milford\, United States
CATEGORIES:BCCA Chapter Show,Ohio
ATTACH;FMTTYPE=image/png:https://www.bcca.com/wp-content/uploads/2020/09/queencity.png
ORGANIZER;CN="Doug%20Groth":MAILTO:truckwashdoug@aol.com
GEO:39.1719151;-84.2972698
X-APPLE-STRUCTURED-LOCATION;VALUE=URI;X-ADDRESS=Little Miami Brewing Co. 208 Mill St. Milford OH Milford United States;X-APPLE-RADIUS=500;X-TITLE=208 Mill St.:geo:-84.2972698,39.1719151
END:VEVENT
END:VCALENDAR