BEGIN:VCALENDAR
VERSION:2.0
PRODID:-//Brewery Collectibles Club of America® - ECPv5.16.4//NONSGML v1.0//EN
CALSCALE:GREGORIAN
METHOD:PUBLISH
X-WR-CALNAME:Brewery Collectibles Club of America®
X-ORIGINAL-URL:https://www.bcca.com
X-WR-CALDESC:Events for Brewery Collectibles Club of America®
REFRESH-INTERVAL;VALUE=DURATION:PT1H
X-Robots-Tag:noindex
X-PUBLISHED-TTL:PT1H
BEGIN:VTIMEZONE
TZID:America/Chicago
BEGIN:DAYLIGHT
TZOFFSETFROM:-0600
TZOFFSETTO:-0500
TZNAME:CDT
DTSTART:20220313T080000
END:DAYLIGHT
BEGIN:STANDARD
TZOFFSETFROM:-0500
TZOFFSETTO:-0600
TZNAME:CST
DTSTART:20221106T070000
END:STANDARD
END:VTIMEZONE
BEGIN:VEVENT
DTSTART;TZID=America/Chicago:20220320T090000
DTEND;TZID=America/Chicago:20220320T130000
DTSTAMP:20220906T052909
CREATED:20210208T205121Z
LAST-MODIFIED:20220627T231803Z
UID:79180-1647766800-1647781200@www.bcca.com
SUMMARY:Quad-Cities Brewery Collectibles Show - Sponsored by the Hawkeye Chapter
DESCRIPTION:The Hawkeye Chapter’s 1st show of the year and first in Davenport since 2019. Come celebrate the 50th year of the Hawkeye Chapter. We will have special celebrations and the raffles will be huge! \nThe KofC Hall has a full bar and should have a lunch available for purchase. \nSet-up is at 7:30 AM with the show going from 9:00 AM – 1:00 PM \nTables are available. \nSee Flier for details. \nQuadCity-2022
URL:https://www.bcca.com/event2/quad-cities/
LOCATION:Knights of Columbus Hall / Davenport\, IA\, 1111 W. 35th Street\, Davenport\, IA\, 52806\, United States
CATEGORIES:BCCA Chapter Show,iowa
ATTACH;FMTTYPE=image/png:https://www.bcca.com/wp-content/uploads/2021/06/Hawkeye50thAll-e1656371434866.png
ORGANIZER;CN="Mike%20Solbrig":MAILTO:mikesolbrig.aoe1@gmail.com
GEO:41.5551308;-90.5885913
X-APPLE-STRUCTURED-LOCATION;VALUE=URI;X-ADDRESS=Knights of Columbus Hall / Davenport IA 1111 W. 35th Street Davenport IA 52806 United States;X-APPLE-RADIUS=500;X-TITLE=1111 W. 35th Street:geo:-90.5885913,41.5551308
END:VEVENT
END:VCALENDAR