BEGIN:VCALENDAR
VERSION:2.0
PRODID:-//Brewery Collectibles Club of America® - ECPv5.16.4//NONSGML v1.0//EN
CALSCALE:GREGORIAN
METHOD:PUBLISH
X-ORIGINAL-URL:https://www.bcca.com
X-WR-CALDESC:Events for Brewery Collectibles Club of America®
REFRESH-INTERVAL;VALUE=DURATION:PT1H
X-Robots-Tag:noindex
X-PUBLISHED-TTL:PT1H
BEGIN:VTIMEZONE
TZID:America/Detroit
BEGIN:DAYLIGHT
TZOFFSETFROM:-0500
TZOFFSETTO:-0400
TZNAME:EDT
DTSTART:20220313T070000
END:DAYLIGHT
BEGIN:STANDARD
TZOFFSETFROM:-0400
TZOFFSETTO:-0500
TZNAME:EST
DTSTART:20221106T060000
END:STANDARD
END:VTIMEZONE
BEGIN:VEVENT
DTSTART;TZID=America/Detroit:20220326T110000
DTEND;TZID=America/Detroit:20220326T140000
DTSTAMP:20220906T061850
CREATED:20210213T175502Z
LAST-MODIFIED:20220310T001729Z
UID:79256-1648292400-1648303200@www.bcca.com
SUMMARY:5th Annual End of Winter Blues Show – Sponsored by the Richbrau Chapter
DESCRIPTION:A great one day trade session at one of Richmond’s premier craft breweries. Always a great selection of cans and breweriana. For anybody wanting to come from out of town there are a number of nice hotels a short distance away.
URL:https://www.bcca.com/event2/end-of-winter/
LOCATION:Kindred Spirit Brewing Company\, 12830 West Creek Parkway\, Suite J\, Richmond\, VA\, 23238\, United States
CATEGORIES:Virginia
ATTACH;FMTTYPE=image/png:https://www.bcca.com/wp-content/uploads/2020/09/richbrau.png
ORGANIZER;CN="Chris%20Eib":MAILTO:moquarts18@aol.com
GEO:37.6100051;-77.6696292
X-APPLE-STRUCTURED-LOCATION;VALUE=URI;X-ADDRESS=Kindred Spirit Brewing Company 12830 West Creek Parkway Suite J Richmond VA 23238 United States;X-APPLE-RADIUS=500;X-TITLE=12830 West Creek Parkway\, Suite J:geo:-77.6696292,37.6100051
END:VEVENT
END:VCALENDAR