BEGIN:VCALENDAR
VERSION:2.0
PRODID:-//Brewery Collectibles Club of America® - ECPv5.16.4//NONSGML v1.0//EN
CALSCALE:GREGORIAN
METHOD:PUBLISH
X-WR-CALNAME:Brewery Collectibles Club of America®
X-ORIGINAL-URL:https://www.bcca.com
X-WR-CALDESC:Events for Brewery Collectibles Club of America®
REFRESH-INTERVAL;VALUE=DURATION:PT1H
X-Robots-Tag:noindex
X-PUBLISHED-TTL:PT1H
BEGIN:VTIMEZONE
TZID:America/Denver
BEGIN:DAYLIGHT
TZOFFSETFROM:-0700
TZOFFSETTO:-0600
TZNAME:MDT
DTSTART:20220313T090000
END:DAYLIGHT
BEGIN:STANDARD
TZOFFSETFROM:-0600
TZOFFSETTO:-0700
TZNAME:MST
DTSTART:20221106T080000
END:STANDARD
END:VTIMEZONE
BEGIN:VEVENT
DTSTART;TZID=America/Denver:20220326T110000
DTEND;TZID=America/Denver:20220326T140000
DTSTAMP:20220906T052341
CREATED:20220112T232827Z
LAST-MODIFIED:20220114T025908Z
UID:85348-1648292400-1648303200@www.bcca.com
SUMMARY:Kick the Winter Doldrums - Sponsored By the Columbine Chapter
DESCRIPTION:Large indoor B/S/T show; Free admission & tables; Bar & Food service available; breweriana raffle.
URL:https://www.bcca.com/event2/winter-doldrums/
LOCATION:Hoffbrau Colorado\, 9110 Wadsworth Pkwy\, Westminster\, CO\, 80021\, United States
CATEGORIES:BCCA Chapter Show,Colorado
ATTACH;FMTTYPE=image/png:https://www.bcca.com/wp-content/uploads/2020/09/columbine.png
ORGANIZER;CN="Jim%20McCoy":MAILTO:jimrealone@gmail.com
GEO:39.8615329;-105.0799778
X-APPLE-STRUCTURED-LOCATION;VALUE=URI;X-ADDRESS=Hoffbrau Colorado 9110 Wadsworth Pkwy Westminster CO 80021 United States;X-APPLE-RADIUS=500;X-TITLE=9110 Wadsworth Pkwy:geo:-105.0799778,39.8615329
END:VEVENT
END:VCALENDAR