BEGIN:VCALENDAR
VERSION:2.0
PRODID:-//Brewery Collectibles Club of America® - ECPv5.16.4//NONSGML v1.0//EN
CALSCALE:GREGORIAN
METHOD:PUBLISH
X-WR-CALNAME:Brewery Collectibles Club of America®
X-ORIGINAL-URL:https://www.bcca.com
X-WR-CALDESC:Events for Brewery Collectibles Club of America®
REFRESH-INTERVAL;VALUE=DURATION:PT1H
X-Robots-Tag:noindex
X-PUBLISHED-TTL:PT1H
BEGIN:VTIMEZONE
TZID:America/Chicago
BEGIN:DAYLIGHT
TZOFFSETFROM:-0600
TZOFFSETTO:-0500
TZNAME:CDT
DTSTART:20220313T080000
END:DAYLIGHT
BEGIN:STANDARD
TZOFFSETFROM:-0500
TZOFFSETTO:-0600
TZNAME:CST
DTSTART:20221106T070000
END:STANDARD
END:VTIMEZONE
BEGIN:VEVENT
DTSTART;TZID=America/Chicago:20220312T090000
DTEND;TZID=America/Chicago:20220312T140000
DTSTAMP:20220906T052848
CREATED:20210304T000754Z
LAST-MODIFIED:20220226T012130Z
UID:79530-1647075600-1647093600@www.bcca.com
SUMMARY:Springfest - Sponsored by the North Star Chapter
DESCRIPTION:Our second largest indoor show of the year!
URL:https://www.bcca.com/event2/north-star-springfest/
LOCATION:Everett McClay VFW\, 311 W. 84th St.\, Bloomington\, MN\, 55420\, United States
CATEGORIES:BCCA Chapter Show,Minnesota
ATTACH;FMTTYPE=image/jpeg:https://www.bcca.com/wp-content/uploads/2015/06/Northstar.jpg
ORGANIZER;CN="Mike%20Mullally":MAILTO:ibuyoldsigns@gmail.com
GEO:44.8509523;-93.2838265
X-APPLE-STRUCTURED-LOCATION;VALUE=URI;X-ADDRESS=Everett McClay VFW 311 W. 84th St. Bloomington MN 55420 United States;X-APPLE-RADIUS=500;X-TITLE=311 W. 84th St.:geo:-93.2838265,44.8509523
END:VEVENT
END:VCALENDAR