BEGIN:VCALENDAR
VERSION:2.0
PRODID:-//Brewery Collectibles Club of America® - ECPv5.16.4//NONSGML v1.0//EN
CALSCALE:GREGORIAN
METHOD:PUBLISH
X-ORIGINAL-URL:https://www.bcca.com
X-WR-CALDESC:Events for Brewery Collectibles Club of America®
REFRESH-INTERVAL;VALUE=DURATION:PT1H
X-Robots-Tag:noindex
X-PUBLISHED-TTL:PT1H
BEGIN:VTIMEZONE
TZID:America/Detroit
BEGIN:DAYLIGHT
TZOFFSETFROM:-0500
TZOFFSETTO:-0400
TZNAME:EDT
DTSTART:20210314T070000
END:DAYLIGHT
BEGIN:STANDARD
TZOFFSETFROM:-0400
TZOFFSETTO:-0500
TZNAME:EST
DTSTART:20211107T060000
END:STANDARD
END:VTIMEZONE
BEGIN:VEVENT
DTSTART;TZID=America/Detroit:20210611T120000
DTEND;TZID=America/Detroit:20210612T140000
DTSTAMP:20220906T062446
CREATED:20210216T012957Z
LAST-MODIFIED:20210221T181320Z
UID:79280-1623412800-1623506400@www.bcca.com
SUMMARY:2021 ABA Convention and Brewery Collectibles Show - Sponsored by the American Breweriana Association
DESCRIPTION:Over 100 tables of great brew \nFriday: June 11\, Show hours set up 10:00-11:45 AM. Brewery Collectible Show for Registered members only from 12:00 noon to 5:00 PM. Craft beer tasting as part of the show. \nSaturday: June 12\, Show hours are from 9:00 AM to 2:00 PM Public show\, buy–sell-trade show. Major Raffle will be held at 1:00 PM for great beer collectible prizes. \nOver 100 tables with cans\, steins\, glasses\, trays\, bottles\, mugs\, signs\, coasters\, openers\, labels\, old ads\, beer taps\, tap knobs\, novelty items\, crowns\, beer post cards\, beer patches\, mirrors\, lithos\, chalks\, paper\, lighted signs\, etc. You should be able to find something for your collection. If you’re just starting out collecting beer collectible’s\, this show is for you or if you’re a seasoned veteran this show is also for you. Breweriana items from all over the US will be om display and for sale or trade. \n 
URL:https://www.bcca.com/event2/aba-convention/
LOCATION:DoubleTree by Hilton Pittsburgh-Cranberry\, 910 Sheraton Drive\, Mars\, PA\, 16046\, United States
CATEGORIES:Pennsylvania
ATTACH;FMTTYPE=image/png:https://www.bcca.com/wp-content/uploads/2021/02/aba-2021-convention.png
ORGANIZER;CN="John%20Weatherhead":MAILTO:wxxhead@msn.com
GEO:40.6682658;-80.0952996
X-APPLE-STRUCTURED-LOCATION;VALUE=URI;X-ADDRESS=DoubleTree by Hilton Pittsburgh-Cranberry 910 Sheraton Drive Mars PA 16046 United States;X-APPLE-RADIUS=500;X-TITLE=910 Sheraton Drive:geo:-80.0952996,40.6682658
END:VEVENT
END:VCALENDAR