BEGIN:VCALENDAR
VERSION:2.0
PRODID:-//Brewery Collectibles Club of America® - ECPv5.16.4//NONSGML v1.0//EN
CALSCALE:GREGORIAN
METHOD:PUBLISH
X-WR-CALNAME:Brewery Collectibles Club of America®
X-ORIGINAL-URL:https://www.bcca.com
X-WR-CALDESC:Events for Brewery Collectibles Club of America®
REFRESH-INTERVAL;VALUE=DURATION:PT1H
X-Robots-Tag:noindex
X-PUBLISHED-TTL:PT1H
BEGIN:VTIMEZONE
TZID:America/Chicago
BEGIN:DAYLIGHT
TZOFFSETFROM:-0600
TZOFFSETTO:-0500
TZNAME:CDT
DTSTART:20210314T080000
END:DAYLIGHT
BEGIN:STANDARD
TZOFFSETFROM:-0500
TZOFFSETTO:-0600
TZNAME:CST
DTSTART:20211107T070000
END:STANDARD
END:VTIMEZONE
BEGIN:VEVENT
DTSTART;TZID=America/Chicago:20210926T090000
DTEND;TZID=America/Chicago:20210926T140000
DTSTAMP:20220906T062407
CREATED:20200910T120615Z
LAST-MODIFIED:20201106T001229Z
UID:73743-1632646800-1632664800@www.bcca.com
SUMMARY:26th Jerry Trowbridge Memorial Beer Can & Breweriana Show - Sponsored by the Carrie Nation Chapter
DESCRIPTION:  \nSocial Time for Early Arrivals.  Meet at Marc Milner’s home anytime after noon. \n4101 SW 35th Terrace\, Topeka\, KS  66614.  785-273-8447 \nDinner at the Blind Tiger Brewery Saturday Sept. 25th at 5pm.  417 SW 37th\, Topeka\, KS  785-267-2739 \n 
URL:https://www.bcca.com/event2/26th-jerry-trowbridge-memorial-beer-can-breweriana-show-sponsored-by-the-carrie-nation-chapter-2/
LOCATION:Crestview Shelter House\, 4901 SW Shunga Dr\, Topeka\, KS\, 66614\, United States
CATEGORIES:BCCA Chapter Show,Kansas
ATTACH;FMTTYPE=image/png:https://www.bcca.com/wp-content/uploads/2020/09/CarrieNation.png
ORGANIZER;CN="Marc%20Milner":MAILTO:  wilbur63@cox.net
GEO:39.0194226;-95.7378271
X-APPLE-STRUCTURED-LOCATION;VALUE=URI;X-ADDRESS=Crestview Shelter House 4901 SW Shunga Dr Topeka KS 66614 United States;X-APPLE-RADIUS=500;X-TITLE=4901 SW Shunga Dr:geo:-95.7378271,39.0194226
END:VEVENT
END:VCALENDAR