BEGIN:VCALENDAR
VERSION:2.0
PRODID:-//Brewery Collectibles Club of America® - ECPv5.16.4//NONSGML v1.0//EN
CALSCALE:GREGORIAN
METHOD:PUBLISH
X-ORIGINAL-URL:https://www.bcca.com
X-WR-CALDESC:Events for Brewery Collectibles Club of America®
REFRESH-INTERVAL;VALUE=DURATION:PT1H
X-Robots-Tag:noindex
X-PUBLISHED-TTL:PT1H
BEGIN:VTIMEZONE
TZID:America/Denver
BEGIN:DAYLIGHT
TZOFFSETFROM:-0700
TZOFFSETTO:-0600
TZNAME:MDT
DTSTART:20210314T090000
END:DAYLIGHT
BEGIN:STANDARD
TZOFFSETFROM:-0600
TZOFFSETTO:-0700
TZNAME:MST
DTSTART:20211107T080000
END:STANDARD
END:VTIMEZONE
BEGIN:VEVENT
DTSTART;TZID=America/Denver:20210731T110000
DTEND;TZID=America/Denver:20210731T140000
DTSTAMP:20220906T053110
CREATED:20210518T212931Z
LAST-MODIFIED:20210518T212931Z
UID:81119-1627729200-1627740000@www.bcca.com
SUMMARY:Mile Hi Summerfest - Sponsored by the Mile-Hi Chapter
DESCRIPTION:B/S/T This is the Mile Hi Chapter summer show\, held indoor with outdoor patio also available. Free admission and tables.
URL:https://www.bcca.com/event2/mile-hi-summerfest/
LOCATION:Copper Kettle Brewing Company\, 1338 S. Valentia St.\, Denver\, CO\, 80247\, United States
CATEGORIES:BCCA Chapter Show,Colorado
ATTACH;FMTTYPE=image/jpeg:https://www.bcca.com/wp-content/uploads/2020/10/mile-hi.jpg
GEO:39.6922476;-104.8909807
X-APPLE-STRUCTURED-LOCATION;VALUE=URI;X-ADDRESS=Copper Kettle Brewing Company 1338 S. Valentia St. Denver CO 80247 United States;X-APPLE-RADIUS=500;X-TITLE=1338 S. Valentia St.:geo:-104.8909807,39.6922476
END:VEVENT
END:VCALENDAR