BEGIN:VCALENDAR
VERSION:2.0
PRODID:-//Brewery Collectibles Club of America® - ECPv5.16.4//NONSGML v1.0//EN
CALSCALE:GREGORIAN
METHOD:PUBLISH
X-ORIGINAL-URL:https://www.bcca.com
X-WR-CALDESC:Events for Brewery Collectibles Club of America®
REFRESH-INTERVAL;VALUE=DURATION:PT1H
X-Robots-Tag:noindex
X-PUBLISHED-TTL:PT1H
BEGIN:VTIMEZONE
TZID:America/Chicago
BEGIN:DAYLIGHT
TZOFFSETFROM:-0600
TZOFFSETTO:-0500
TZNAME:CDT
DTSTART:20210314T080000
END:DAYLIGHT
BEGIN:STANDARD
TZOFFSETFROM:-0500
TZOFFSETTO:-0600
TZNAME:CST
DTSTART:20211107T070000
END:STANDARD
END:VTIMEZONE
BEGIN:VEVENT
DTSTART;TZID=America/Chicago:20210912T100000
DTEND;TZID=America/Chicago:20210912T150000
DTSTAMP:20220906T055639
CREATED:20210911T134603Z
LAST-MODIFIED:20210911T134709Z
UID:82912-1631440800-1631458800@www.bcca.com
SUMMARY:Bullfrog Outdoor Show - Sponsored by the Bullfrog Chapter
DESCRIPTION:Outdoor show at Buffalo Creek Brewery in Long Grove \nBullfrog-Fall-2021
URL:https://www.bcca.com/event2/bullfrog-outdoor/
LOCATION:Buffalo Creek Brewery\, 360 Historical Ln\, IL\, Long Grove\, IL\, 60047\, United States
CATEGORIES:BCCA Chapter Show,Illinois
ATTACH;FMTTYPE=image/jpeg:https://www.bcca.com/wp-content/uploads/2015/06/BullfrogLogo.jpg
ORGANIZER;CN="Donald%20W%20Hardy":MAILTO:d.hardy@comcast.net
GEO:42.1767799;-87.9979671
X-APPLE-STRUCTURED-LOCATION;VALUE=URI;X-ADDRESS=Buffalo Creek Brewery 360 Historical Ln IL Long Grove IL 60047 United States;X-APPLE-RADIUS=500;X-TITLE=360 Historical Ln\, IL:geo:-87.9979671,42.1767799
END:VEVENT
END:VCALENDAR