BEGIN:VCALENDAR
VERSION:2.0
PRODID:-//Brewery Collectibles Club of America® - ECPv5.16.4//NONSGML v1.0//EN
CALSCALE:GREGORIAN
METHOD:PUBLISH
X-WR-CALNAME:Brewery Collectibles Club of America®
X-ORIGINAL-URL:https://www.bcca.com
X-WR-CALDESC:Events for Brewery Collectibles Club of America®
REFRESH-INTERVAL;VALUE=DURATION:PT1H
X-Robots-Tag:noindex
X-PUBLISHED-TTL:PT1H
BEGIN:VTIMEZONE
TZID:America/Chicago
BEGIN:DAYLIGHT
TZOFFSETFROM:-0600
TZOFFSETTO:-0500
TZNAME:CDT
DTSTART:20220313T080000
END:DAYLIGHT
BEGIN:STANDARD
TZOFFSETFROM:-0500
TZOFFSETTO:-0600
TZNAME:CST
DTSTART:20221106T070000
END:STANDARD
END:VTIMEZONE
BEGIN:VEVENT
DTSTART;TZID=America/Chicago:20220716T120000
DTEND;TZID=America/Chicago:20220716T170000
DTSTAMP:20220907T092158
CREATED:20201110T234845Z
LAST-MODIFIED:20220712T005318Z
UID:76893-1657972800-1657990800@www.bcca.com
SUMMARY:BCCA Board Meeting (Virtual)
DESCRIPTION:BCCA Board of Directors meeting – BCCA Members Welcome to Attend\nJuly 16th\, 2022 @ 12pm CST. – Virtual via Zoom from the comfort of your own home. \nBCCA Members Please Log In to Access the ZOOM Meeting Link Below\n \n 
URL:https://www.bcca.com/event2/july-bod/
LOCATION:Online – BCCA\, United States
CATEGORIES:Board Meeting,Online
ATTACH;FMTTYPE=image/jpeg:https://www.bcca.com/wp-content/uploads/2015/08/Logo_34.jpg
ORGANIZER;CN="BCCA":MAILTO:bcca@bcca.com
GEO:37.09024;-95.712891
END:VEVENT
END:VCALENDAR