BEGIN:VCALENDAR
VERSION:2.0
PRODID:-//Brewery Collectibles Club of America® - ECPv5.16.4//NONSGML v1.0//EN
CALSCALE:GREGORIAN
METHOD:PUBLISH
X-ORIGINAL-URL:https://www.bcca.com
X-WR-CALDESC:Events for Brewery Collectibles Club of America®
REFRESH-INTERVAL;VALUE=DURATION:PT1H
X-Robots-Tag:noindex
X-PUBLISHED-TTL:PT1H
BEGIN:VTIMEZONE
TZID:America/Detroit
BEGIN:DAYLIGHT
TZOFFSETFROM:-0500
TZOFFSETTO:-0400
TZNAME:EDT
DTSTART:20210314T070000
END:DAYLIGHT
BEGIN:STANDARD
TZOFFSETFROM:-0400
TZOFFSETTO:-0500
TZNAME:EST
DTSTART:20211107T060000
END:STANDARD
END:VTIMEZONE
BEGIN:VEVENT
DTSTART;TZID=America/Detroit:20211028T090000
DTEND;TZID=America/Detroit:20211031T000000
DTSTAMP:20220907T052325
CREATED:20210928T231851Z
LAST-MODIFIED:20210928T232538Z
UID:83053-1635411600-1635638400@www.bcca.com
SUMMARY:20th Annual BCCA Skedder Chapter Covention - Sponsored by the BCCA Skedder Chapter
DESCRIPTION:Skedder swap meet of sports related beer and other sponsored schedules.
URL:https://www.bcca.com/event2/skedder-covention/
LOCATION:Quality Inn – Winchester\, 1601 Martinsburg Pike\, Winchester\, VA\, 22603\, United States
CATEGORIES:BCCA Chapter Show,Virginia
ATTACH;FMTTYPE=image/png:https://www.bcca.com/wp-content/uploads/2020/09/Skedder.png
ORGANIZER;CN="Kelly%20Levy":MAILTO:pensqd@yahoo.com
GEO:39.2171973;-78.1398297
X-APPLE-STRUCTURED-LOCATION;VALUE=URI;X-ADDRESS=Quality Inn – Winchester 1601 Martinsburg Pike Winchester VA 22603 United States;X-APPLE-RADIUS=500;X-TITLE=1601 Martinsburg Pike:geo:-78.1398297,39.2171973
END:VEVENT
END:VCALENDAR