BEGIN:VCALENDAR
VERSION:2.0
PRODID:-//Brewery Collectibles Club of America® - ECPv5.16.4//NONSGML v1.0//EN
CALSCALE:GREGORIAN
METHOD:PUBLISH
X-ORIGINAL-URL:https://www.bcca.com
X-WR-CALDESC:Events for Brewery Collectibles Club of America®
REFRESH-INTERVAL;VALUE=DURATION:PT1H
X-Robots-Tag:noindex
X-PUBLISHED-TTL:PT1H
BEGIN:VTIMEZONE
TZID:America/Chicago
BEGIN:DAYLIGHT
TZOFFSETFROM:-0600
TZOFFSETTO:-0500
TZNAME:CDT
DTSTART:20220313T080000
END:DAYLIGHT
BEGIN:STANDARD
TZOFFSETFROM:-0500
TZOFFSETTO:-0600
TZNAME:CST
DTSTART:20221106T070000
END:STANDARD
END:VTIMEZONE
BEGIN:VEVENT
DTSTART;TZID=America/Chicago:20220731T090000
DTEND;TZID=America/Chicago:20220731T140000
DTSTAMP:20220906T172657
CREATED:20210210T224425Z
LAST-MODIFIED:20211130T000257Z
UID:79223-1659258000-1659276000@www.bcca.com
SUMMARY:Hartog Memorial Picnic and Trade Session – Sponsored by the Prison City Chapter
DESCRIPTION:Buy / sell / trade session under an outdoor pavilion. Limited picnic tables available for vendors\, feel free to bring your own tables or blankets and set up in the grass around the pavilion. Grounds open 8am for set up\, show runs 9am until 2pm. Brats\, burgers and hot dogs hot off the grill for lunch and a keg of Old Style to wash it all down !!! Large raffle at 2pm with lots of craft beer and breweriana ! Indoor cash bar also available.\nAs always\, raffle prizes are greatly appreciated. Venue is kind of tucked away\, From I-80\, exit Briggs street north\, look for the beer sign on Elgin Street\, and follow that street to the picnic.
URL:https://www.bcca.com/event2/hartog-prison-city/
LOCATION:Belmont Athletic Club\, 651 Highland Pkwy\, Joliet\, IL\, 60431\, United States
CATEGORIES:BCCA Chapter Show,Illinois
ATTACH;FMTTYPE=image/jpeg:https://www.bcca.com/wp-content/uploads/2015/06/Prison-City.jpg
ORGANIZER;CN="Willy%20Novak":MAILTO:OldstyleWilly@att.net
GEO:41.5397693;-88.0953377
X-APPLE-STRUCTURED-LOCATION;VALUE=URI;X-ADDRESS=Belmont Athletic Club 651 Highland Pkwy Joliet IL 60431 United States;X-APPLE-RADIUS=500;X-TITLE=651 Highland Pkwy:geo:-88.0953377,41.5397693
END:VEVENT
BEGIN:VEVENT
DTSTART;TZID=America/Chicago:20220313T090000
DTEND;TZID=America/Chicago:20220313T150000
DTSTAMP:20220906T172657
CREATED:20201209T032726Z
LAST-MODIFIED:20211130T000702Z
UID:77746-1647162000-1647183600@www.bcca.com
SUMMARY:Prison City Chapter Trade Session - Sponsored by the Prison City Chapter
DESCRIPTION:Buy / sell / trade session in the Knight’s of Columbus hall. Hall opens at 8am for set-up\, easy in and out\, plenty of parking. Show runs from 9am to 3pm. Barb’s famous chili\, hot dogs\, and chili dogs served for lunch\, cash bar with Bernie’s famous Bloody Marys !!! Large raffle around 1pm with lots of craft beer and breweriana. As always\, raffle donations are greatly appreciated !!!
URL:https://www.bcca.com/event2/prison-city-march/
LOCATION:Knight’s of Columbus 4400\, 1813 E. Cass Street (Route 30)\, Joliet\, IL\, 60432\, United States
CATEGORIES:BCCA Chapter Show,Illinois
ATTACH;FMTTYPE=image/jpeg:https://www.bcca.com/wp-content/uploads/2015/06/Prison-City.jpg
ORGANIZER;CN="Willy%20Novak":MAILTO:OldstyleWilly@att.net
GEO:41.5300134;-88.0377623
X-APPLE-STRUCTURED-LOCATION;VALUE=URI;X-ADDRESS=Knight’s of Columbus 4400 1813 E. Cass Street (Route 30) Joliet IL 60432 United States;X-APPLE-RADIUS=500;X-TITLE=1813 E. Cass Street (Route 30):geo:-88.0377623,41.5300134
END:VEVENT
END:VCALENDAR