BEGIN:VCALENDAR
VERSION:2.0
PRODID:-//Brewery Collectibles Club of America® - ECPv5.16.4//NONSGML v1.0//EN
CALSCALE:GREGORIAN
METHOD:PUBLISH
X-ORIGINAL-URL:https://www.bcca.com
X-WR-CALDESC:Events for Brewery Collectibles Club of America®
REFRESH-INTERVAL;VALUE=DURATION:PT1H
X-Robots-Tag:noindex
X-PUBLISHED-TTL:PT1H
BEGIN:VTIMEZONE
TZID:America/Chicago
BEGIN:DAYLIGHT
TZOFFSETFROM:-0600
TZOFFSETTO:-0500
TZNAME:CDT
DTSTART:20220313T080000
END:DAYLIGHT
BEGIN:STANDARD
TZOFFSETFROM:-0500
TZOFFSETTO:-0600
TZNAME:CST
DTSTART:20221106T070000
END:STANDARD
END:VTIMEZONE
BEGIN:VEVENT
DTSTART;TZID=America/Chicago:20220828T090000
DTEND;TZID=America/Chicago:20220828T143000
DTSTAMP:20220906T145355
CREATED:20210401T023526Z
LAST-MODIFIED:20220717T173919Z
UID:80069-1661677200-1661697000@www.bcca.com
SUMMARY:The 46th Annual PACKNIC – Sponsored by Packer Chapter\, U.A.
DESCRIPTION:PACKNIC is located in the Barrel Haus Event Center at Badger State Brewing Co. \nPACKNIC ADMISSION: Packer Chapter\, U.A. Members: $2. BCCA/NABA/ABA Members: $3. Non-BCCA / NABA / ABA Members/Guests: $4. Immediate PC Family members: Free. All other family members: $1. \nPACKNIC ACTIVITIES Check-In (ID for reduced beer pricing for PACKNIC attendees\, plus a Free Beer coupon & Special Drawing for PC members). Free PC Member Attendance Gift. Annual PC PACKNIC Team. PACKNIC “Special Pick-Your-Own-Prize” Raffle. \nPACKNIC-2022\n  \n 
URL:https://www.bcca.com/event2/packnic/
LOCATION:Badger State Brewing Company\, 990 Tony Canadeo Run\, Green Bay\, WI\, 54304\, United States
CATEGORIES:BCCA Chapter Show,Wisconsin
ATTACH;FMTTYPE=image/png:https://www.bcca.com/wp-content/uploads/2021/06/packer-new-e1625402829621.png
ORGANIZER;CN="Ken%20Treml":MAILTO:kentreml@new.rr.com
GEO:44.497983;-88.0500622
X-APPLE-STRUCTURED-LOCATION;VALUE=URI;X-ADDRESS=Badger State Brewing Company 990 Tony Canadeo Run Green Bay WI 54304 United States;X-APPLE-RADIUS=500;X-TITLE=990 Tony Canadeo Run:geo:-88.0500622,44.497983
END:VEVENT
END:VCALENDAR