BEGIN:VCALENDAR
VERSION:2.0
PRODID:-//Brewery Collectibles Club of America® - ECPv5.16.4//NONSGML v1.0//EN
CALSCALE:GREGORIAN
METHOD:PUBLISH
X-ORIGINAL-URL:https://www.bcca.com
X-WR-CALDESC:Events for Brewery Collectibles Club of America®
REFRESH-INTERVAL;VALUE=DURATION:PT1H
X-Robots-Tag:noindex
X-PUBLISHED-TTL:PT1H
BEGIN:VTIMEZONE
TZID:America/Detroit
BEGIN:DAYLIGHT
TZOFFSETFROM:-0500
TZOFFSETTO:-0400
TZNAME:EDT
DTSTART:20220313T070000
END:DAYLIGHT
BEGIN:STANDARD
TZOFFSETFROM:-0400
TZOFFSETTO:-0500
TZNAME:EST
DTSTART:20221106T060000
END:STANDARD
END:VTIMEZONE
BEGIN:VEVENT
DTSTART;TZID=America/Detroit:20220212T090000
DTEND;TZID=America/Detroit:20220212T130000
DTSTAMP:20220907T052520
CREATED:20200911T133520Z
LAST-MODIFIED:20211228T220952Z
UID:73763-1644656400-1644670800@www.bcca.com
SUMMARY:29th Annual Winter Blast Beer Collectibles Show - Sponsored by the Olde Frothingslosh Chapter
DESCRIPTION:Tables: $10.00 for Members – $15.00 for Non-Members \nGeneral Admission $5.00 – Kids Free w/ Adult \nPrice includes complimentary beverages!      \nSandwiches are available at a reasonable price! \nAs always\, a great prize raffle and 50/50 raffle will be featured! \nAdvance Table Reservations a Must! \nRESERVATIONS:\nContact: Jerry Lorenz\nPhone: 412-760-7621\nEmail: Click Here \n -or – \nContact: Deborah Lorenz\nPhone: 412-708-9267\nEmail: Click Here \nwinter-blast-2022
URL:https://www.bcca.com/event2/winter-blast/
LOCATION:VFW Post 8805\, 138 Stone Quarry Road\, Aliquippa\, PA\, 15001\, United States
CATEGORIES:BCCA Chapter Show,Pennsylvania
ATTACH;FMTTYPE=image/png:https://www.bcca.com/wp-content/uploads/2020/09/oldefroth.png
ORGANIZER;CN="Jerry%20Lorenz":MAILTO:oldefroth011@gmail.com
GEO:40.556976;-80.28674
X-APPLE-STRUCTURED-LOCATION;VALUE=URI;X-ADDRESS=VFW Post 8805 138 Stone Quarry Road Aliquippa PA 15001 United States;X-APPLE-RADIUS=500;X-TITLE=138 Stone Quarry Road:geo:-80.28674,40.556976
END:VEVENT
END:VCALENDAR