BEGIN:VCALENDAR
VERSION:2.0
PRODID:-//Brewery Collectibles Club of America® - ECPv5.16.4//NONSGML v1.0//EN
CALSCALE:GREGORIAN
METHOD:PUBLISH
X-ORIGINAL-URL:https://www.bcca.com
X-WR-CALDESC:Events for Brewery Collectibles Club of America®
REFRESH-INTERVAL;VALUE=DURATION:PT1H
X-Robots-Tag:noindex
X-PUBLISHED-TTL:PT1H
BEGIN:VTIMEZONE
TZID:America/Chicago
BEGIN:DAYLIGHT
TZOFFSETFROM:-0600
TZOFFSETTO:-0500
TZNAME:CDT
DTSTART:20220313T080000
END:DAYLIGHT
BEGIN:STANDARD
TZOFFSETFROM:-0500
TZOFFSETTO:-0600
TZNAME:CST
DTSTART:20221106T070000
END:STANDARD
END:VTIMEZONE
BEGIN:VEVENT
DTSTART;TZID=America/Chicago:20220813T070000
DTEND;TZID=America/Chicago:20220813T150000
DTSTAMP:20220906T173055
CREATED:20210304T005733Z
LAST-MODIFIED:20220226T015532Z
UID:79539-1660374000-1660402800@www.bcca.com
SUMMARY:“A Day at Leinie’s” Annual Show – Sponsored by North Star Chapter
DESCRIPTION:On brewery grounds across from Leinie’s Lodge. Don’t miss this show!
URL:https://www.bcca.com/event2/a-day-at-leinies/
LOCATION:Jacob Leinenkugel Brewing Company\, 124 E. Elm Street\, Chippewa Falls\, WI\, 54729\, United States
CATEGORIES:BCCA Chapter Show,Minnesota
ATTACH;FMTTYPE=image/jpeg:https://www.bcca.com/wp-content/uploads/2015/06/Northstar.jpg
GEO:44.9432755;-91.3956289
X-APPLE-STRUCTURED-LOCATION;VALUE=URI;X-ADDRESS=Jacob Leinenkugel Brewing Company 124 E. Elm Street Chippewa Falls WI 54729 United States;X-APPLE-RADIUS=500;X-TITLE=124 E. Elm Street:geo:-91.3956289,44.9432755
END:VEVENT
BEGIN:VEVENT
DTSTART;TZID=America/Chicago:20220709T090000
DTEND;TZID=America/Chicago:20220709T160000
DTSTAMP:20220906T173055
CREATED:20210304T001809Z
LAST-MODIFIED:20220226T014520Z
UID:79533-1657357200-1657382400@www.bcca.com
SUMMARY:Annual Show - Sponsored by the Nordlager & North Star Chapters
DESCRIPTION:Friday evening hospitality and Saturday show. \n 
URL:https://www.bcca.com/event2/nordlager-north-star/
LOCATION:Northeastern Saloon & Grille\, 115 St. Louis Avenue\, Cloquet\, MN\, 55720\, United States
CATEGORIES:BCCA Chapter Show,Minnesota
ATTACH;FMTTYPE=image/jpeg:https://www.bcca.com/wp-content/uploads/2015/06/Northstar.jpg
GEO:46.7257509;-92.4636732
X-APPLE-STRUCTURED-LOCATION;VALUE=URI;X-ADDRESS=Northeastern Saloon & Grille 115 St. Louis Avenue Cloquet MN 55720 United States;X-APPLE-RADIUS=500;X-TITLE=115 St. Louis Avenue:geo:-92.4636732,46.7257509
END:VEVENT
BEGIN:VEVENT
DTSTART;TZID=America/Chicago:20220514T090000
DTEND;TZID=America/Chicago:20220514T130000
DTSTAMP:20220906T173055
CREATED:20210504T215823Z
LAST-MODIFIED:20220226T020023Z
UID:80835-1652518800-1652533200@www.bcca.com
SUMMARY:Annual St. Paul Brewing Co.'s outdoor parking lot show - Sponsored by the North Star Chapter
DESCRIPTION:Held in large parking lot adjacent to the old Hamm’s Brewing complex. Chapter members set up free\, general public free admission
URL:https://www.bcca.com/event2/st-paul-brewing-show/
LOCATION:St. Paul Brewing Co.\, 688 Minnehaha Ave. E.\, St. Paul\, MN\, 55106\, United States
CATEGORIES:BCCA Chapter Show,Minnesota
ATTACH;FMTTYPE=image/jpeg:https://www.bcca.com/wp-content/uploads/2015/06/Northstar.jpg
ORGANIZER;CN="Mike%20Mullally":MAILTO:ibuyoldsigns@gmail.com
GEO:44.9627463;-93.0716588
X-APPLE-STRUCTURED-LOCATION;VALUE=URI;X-ADDRESS=St. Paul Brewing Co. 688 Minnehaha Ave. E. St. Paul MN 55106 United States;X-APPLE-RADIUS=500;X-TITLE=688 Minnehaha Ave. E.:geo:-93.0716588,44.9627463
END:VEVENT
BEGIN:VEVENT
DTSTART;TZID=America/Chicago:20220312T090000
DTEND;TZID=America/Chicago:20220312T140000
DTSTAMP:20220906T173055
CREATED:20210304T000754Z
LAST-MODIFIED:20220226T012130Z
UID:79530-1647075600-1647093600@www.bcca.com
SUMMARY:Springfest - Sponsored by the North Star Chapter
DESCRIPTION:Our second largest indoor show of the year!
URL:https://www.bcca.com/event2/north-star-springfest/
LOCATION:Everett McClay VFW\, 311 W. 84th St.\, Bloomington\, MN\, 55420\, United States
CATEGORIES:BCCA Chapter Show,Minnesota
ATTACH;FMTTYPE=image/jpeg:https://www.bcca.com/wp-content/uploads/2015/06/Northstar.jpg
ORGANIZER;CN="Mike%20Mullally":MAILTO:ibuyoldsigns@gmail.com
GEO:44.8509523;-93.2838265
X-APPLE-STRUCTURED-LOCATION;VALUE=URI;X-ADDRESS=Everett McClay VFW 311 W. 84th St. Bloomington MN 55420 United States;X-APPLE-RADIUS=500;X-TITLE=311 W. 84th St.:geo:-93.2838265,44.8509523
END:VEVENT
END:VCALENDAR