BEGIN:VCALENDAR
VERSION:2.0
PRODID:-//Brewery Collectibles Club of America® - ECPv5.16.4//NONSGML v1.0//EN
CALSCALE:GREGORIAN
METHOD:PUBLISH
X-ORIGINAL-URL:https://www.bcca.com
X-WR-CALDESC:Events for Brewery Collectibles Club of America®
REFRESH-INTERVAL;VALUE=DURATION:PT1H
X-Robots-Tag:noindex
X-PUBLISHED-TTL:PT1H
BEGIN:VTIMEZONE
TZID:America/New_York
BEGIN:DAYLIGHT
TZOFFSETFROM:-0500
TZOFFSETTO:-0400
TZNAME:EDT
DTSTART:20210314T070000
END:DAYLIGHT
BEGIN:STANDARD
TZOFFSETFROM:-0400
TZOFFSETTO:-0500
TZNAME:EST
DTSTART:20211107T060000
END:STANDARD
BEGIN:DAYLIGHT
TZOFFSETFROM:-0500
TZOFFSETTO:-0400
TZNAME:EDT
DTSTART:20220313T070000
END:DAYLIGHT
BEGIN:STANDARD
TZOFFSETFROM:-0400
TZOFFSETTO:-0500
TZNAME:EST
DTSTART:20221106T060000
END:STANDARD
END:VTIMEZONE
BEGIN:VEVENT
DTSTART;TZID=America/New_York:20211009T100000
DTEND;TZID=America/New_York:20211009T140000
DTSTAMP:20220906T115228
CREATED:20200313T011040Z
LAST-MODIFIED:20210721T145008Z
UID:70751-1633773600-1633788000@www.bcca.com
SUMMARY:Breweriana Show and Sale - Sponsored by the Congress Chapter
DESCRIPTION:Show Features:\nFree Admission * Free Appraisals * Free Parking\nLots of Breweriana for all Collectors\nNovice thru Advanced\nDisplay of Central New York\nFeaturing SYRACUSE NY Items\nRaffle Prizes\nDealer Info:\n6′ Tables – $10/Each\nDealer Setup: 7am\nBreakfast and Lunch Available\nBar Open
URL:https://www.bcca.com/event2/congress-october/
LOCATION:Mattydale VFW Post 3146\, 2000 Lemoyne Ave.\, Syracuse\, 13208
CATEGORIES:BCCA Chapter Show,New York
ATTACH;FMTTYPE=image/png:https://www.bcca.com/wp-content/uploads/2015/06/congress.png
GEO:43.089333;-76.1439191
X-APPLE-STRUCTURED-LOCATION;VALUE=URI;X-ADDRESS=Mattydale VFW Post 3146 2000 Lemoyne Ave. Syracuse 13208;X-APPLE-RADIUS=500;X-TITLE=2000 Lemoyne Ave.:geo:-76.1439191,43.089333
END:VEVENT
BEGIN:VEVENT
DTSTART;TZID=America/New_York:20211030T090000
DTEND;TZID=America/New_York:20211030T140000
DTSTAMP:20220906T115228
CREATED:20210919T202931Z
LAST-MODIFIED:20210919T204257Z
UID:82996-1635584400-1635602400@www.bcca.com
SUMMARY:12 Horse Hoot & Howl - Sponsored by the 12 Horse Chapter
DESCRIPTION:This is the 5th annual Hoot & Howl\nWe are back inside at the Union Hall\nOur show is Saturday\, October 30\, 2021\n9:00 AM to2:00 PM\nTrade Table set up is at 8:00 AM\nThe show is free and open to the public and opens at 9:00 AM\nThe show will be held at:\nPlumbers & Steamfitters\nLocal no. 13 Union Hall\n1850 Mt. Read Blvd\nRochester\, New York 14615 \nFor Table information please contact: \nContact: John Robson\nEmail: Click Here\nPhone:  (585) 202 – 0647
URL:https://www.bcca.com/event2/12-horse-hoot-howl/
LOCATION:Plumbers & Steamfitters Local No. 13 Union Hall\, 1850 Mt. Read Blvd\, Rochester\, NY\, 14516\, United States
CATEGORIES:BCCA Chapter Show,New York
ATTACH;FMTTYPE=image/png:https://www.bcca.com/wp-content/uploads/2020/09/12horse.png
ORGANIZER;CN="John%20Robson":MAILTO:JR66SS@rochester.rr.com
GEO:43.187913;-77.658302
X-APPLE-STRUCTURED-LOCATION;VALUE=URI;X-ADDRESS=Plumbers & Steamfitters Local No. 13 Union Hall 1850 Mt. Read Blvd Rochester NY 14516 United States;X-APPLE-RADIUS=500;X-TITLE=1850 Mt. Read Blvd:geo:-77.658302,43.187913
END:VEVENT
BEGIN:VEVENT
DTSTART;TZID=America/New_York:20220326T090000
DTEND;TZID=America/New_York:20220326T130000
DTSTAMP:20220906T115228
CREATED:20220223T230023Z
LAST-MODIFIED:20220223T230603Z
UID:86206-1648285200-1648299600@www.bcca.com
SUMMARY:First Annual Beer Collectible Show - Sponsored by the Ms. Columbia Chapter
DESCRIPTION:Ms. Columbia 1st Annual Beer Collectible Show\nAt the Utica Maennerchor\n5535 Flanagan Road\nMarcy\, NY 13403\nSaturday March 26th. 2022\n9am to 1pm\nTables $10.00 Each (Dealer Set-Up 7:30-9)\nEarly Bird Admission $10.00\nGeneral Admission $1.00\nRaffles and 50/50 drawings\nAdvance Reservations a “MUST” \nms-columbia-2022
URL:https://www.bcca.com/event2/ms-columbia-show/
LOCATION:Utica Maennerchor\, 5535 Flanagan Road\, Marcy\, NY\, 13403\, United States
CATEGORIES:BCCA Chapter Show,New York
ATTACH;FMTTYPE=image/png:https://www.bcca.com/wp-content/uploads/2022/02/ms-columbia.png
ORGANIZER;CN="Jason%20Thompson":MAILTO:jwthompsonmasonry@gmail.com
GEO:43.130107;-75.236376
X-APPLE-STRUCTURED-LOCATION;VALUE=URI;X-ADDRESS=Utica Maennerchor 5535 Flanagan Road Marcy NY 13403 United States;X-APPLE-RADIUS=500;X-TITLE=5535 Flanagan Road:geo:-75.236376,43.130107
END:VEVENT
BEGIN:VEVENT
DTSTART;TZID=America/New_York:20220402T090000
DTEND;TZID=America/New_York:20220402T130000
DTSTAMP:20220906T115228
CREATED:20201103T233007Z
LAST-MODIFIED:20211211T192951Z
UID:76564-1648890000-1648904400@www.bcca.com
SUMMARY:Simon Pure Spring Show - Sponsored by the Simon Pure Chapter
DESCRIPTION:Beer and Breweriana Show – Buy\, Sell & Trade \nThe Simon Pure Chapter of the\nBrewery Collectibles Club of America\n&\nNational Association Breweriana Advertising\nAnnual Fall Breweriana Show & Sale\nat\nVariety Club\n6114 Broadway\nLancaster\, NY 14086\non\nSaturday\, April 2\, 2022\n9 a.m. – 1 p.m.\nTables $15.00 \nWALK-INS ARE ALWAYS FREE\nNo walk-ins prior to 9 a.m \nSimon-Spring-2022
URL:https://www.bcca.com/event2/simon-pure-spring-show/
LOCATION:Variety Club\, 6114 Broadway\, Lancaster\, NY\, 14086\, United States
CATEGORIES:BCCA Chapter Show,New York
ATTACH;FMTTYPE=image/png:https://www.bcca.com/wp-content/uploads/2020/09/simon.png
ORGANIZER;CN="Jeff%20Murbach":MAILTO:jmurbach@ymail.com
GEO:42.8931022;-78.6167319
X-APPLE-STRUCTURED-LOCATION;VALUE=URI;X-ADDRESS=Variety Club 6114 Broadway Lancaster NY 14086 United States;X-APPLE-RADIUS=500;X-TITLE=6114 Broadway:geo:-78.6167319,42.8931022
END:VEVENT
BEGIN:VEVENT
DTSTART;TZID=America/New_York:20220402T090000
DTEND;TZID=America/New_York:20220402T130000
DTSTAMP:20220906T115228
CREATED:20201006T000631Z
LAST-MODIFIED:20220109T202041Z
UID:75756-1648890000-1648904400@www.bcca.com
SUMMARY:Annual Spring Show - Sponsored by the Schultz & Dooley Chapter
DESCRIPTION:Schultz & Dooley Chapter Annual Spring Beer can and Breweriana Buy Sell Trade. Clifton Park Elks Lodge(Ballston Lake NY). \nSD-Spring-2022
URL:https://www.bcca.com/event2/spring-schultz-dooley/
LOCATION:Clifton Park Elks #2466\, 695 Mac Elroy Rd\, Ballston Lake\, NY\, 12019\, United States
CATEGORIES:BCCA Chapter Show,New York
ATTACH;FMTTYPE=image/png:https://www.bcca.com/wp-content/uploads/2020/09/Shultz.png
ORGANIZER;CN="Bill%20Laraway":MAILTO:brewcoll2@gmail.com
GEO:42.9039908;-73.8475577
X-APPLE-STRUCTURED-LOCATION;VALUE=URI;X-ADDRESS=Clifton Park Elks #2466 695 Mac Elroy Rd Ballston Lake NY 12019 United States;X-APPLE-RADIUS=500;X-TITLE=695 Mac Elroy Rd:geo:-73.8475577,42.9039908
END:VEVENT
BEGIN:VEVENT
DTSTART;TZID=America/New_York:20220730T090000
DTEND;TZID=America/New_York:20220730T130000
DTSTAMP:20220906T115228
CREATED:20201103T233955Z
LAST-MODIFIED:20211107T162611Z
UID:76567-1659171600-1659186000@www.bcca.com
SUMMARY:Simon Pure Summer  Show - Sponsored by the Simon Pure Chapter
DESCRIPTION:Brewery and Beer Collectibles\, buy\, sell\, trade show\nEAGLES CLUB\n4569 Broadway\nDepew\, New York 14043\non\nSaturday\, July 30\, 2022\n9 a.m. until 1 p.m.\nFREE WALK-INS\nNo entry prior to 9 a.m. without a table. \nFor more information or to reserve a table\, call\nJeff Murbach 716-713-7236 or\nE-mail jmurbach@ymail.com \nSimon-Pure-Summer--20222
URL:https://www.bcca.com/event2/simon-pure-summer-show/
LOCATION:Fraternal Order of Eagles No 2692\, 4569 Broadway\, Depew\, NY\, 14043\, United States
CATEGORIES:BCCA Chapter Show,New York
ATTACH;FMTTYPE=image/png:https://www.bcca.com/wp-content/uploads/2020/09/simon.png
ORGANIZER;CN="Jeff%20Murbach":MAILTO:jmurbach@ymail.com
GEO:42.9012017;-78.7057646
X-APPLE-STRUCTURED-LOCATION;VALUE=URI;X-ADDRESS=Fraternal Order of Eagles No 2692 4569 Broadway Depew NY 14043 United States;X-APPLE-RADIUS=500;X-TITLE=4569 Broadway:geo:-78.7057646,42.9012017
END:VEVENT
END:VCALENDAR