BEGIN:VCALENDAR
VERSION:2.0
PRODID:-//Brewery Collectibles Club of America® - ECPv5.16.4//NONSGML v1.0//EN
CALSCALE:GREGORIAN
METHOD:PUBLISH
X-ORIGINAL-URL:https://www.bcca.com
X-WR-CALDESC:Events for Brewery Collectibles Club of America®
REFRESH-INTERVAL;VALUE=DURATION:PT1H
X-Robots-Tag:noindex
X-PUBLISHED-TTL:PT1H
BEGIN:VTIMEZONE
TZID:America/Chicago
BEGIN:DAYLIGHT
TZOFFSETFROM:-0600
TZOFFSETTO:-0500
TZNAME:CDT
DTSTART:20220313T080000
END:DAYLIGHT
BEGIN:STANDARD
TZOFFSETFROM:-0500
TZOFFSETTO:-0600
TZNAME:CST
DTSTART:20221106T070000
END:STANDARD
END:VTIMEZONE
BEGIN:VEVENT
DTSTART;TZID=America/Chicago:20220402T090000
DTEND;TZID=America/Chicago:20220402T140000
DTSTAMP:20220907T085110
CREATED:20220126T232736Z
LAST-MODIFIED:20220126T233016Z
UID:85617-1648890000-1648908000@www.bcca.com
SUMMARY:Breweriana Blowout - Sponsored by the Mississippi Valley Chapter - ABA
DESCRIPTION:Beer show for the buying\, selling and trading of any related beer advertising and items! \nmiss-valley-blowout-2022
URL:https://www.bcca.com/event2/breweriana-blowout/
LOCATION:Belleclair Fairgrounds\, 200 South Belt East\, Belleville\, IL\, 62220\, United States
CATEGORIES:Illinois
ATTACH;FMTTYPE=image/jpeg:https://www.bcca.com/wp-content/uploads/2022/01/bellclaire.jpg
ORGANIZER;CN="Bob%20Helmkamp":MAILTO:budmanbob1@charter.net
GEO:38.5014153;-89.9819276
X-APPLE-STRUCTURED-LOCATION;VALUE=URI;X-ADDRESS=Belleclair Fairgrounds 200 South Belt East Belleville IL 62220 United States;X-APPLE-RADIUS=500;X-TITLE=200 South Belt East:geo:-89.9819276,38.5014153
END:VEVENT
END:VCALENDAR