BEGIN:VCALENDAR
VERSION:2.0
PRODID:-//Brewery Collectibles Club of America® - ECPv5.16.4//NONSGML v1.0//EN
CALSCALE:GREGORIAN
METHOD:PUBLISH
X-ORIGINAL-URL:https://www.bcca.com
X-WR-CALDESC:Events for Brewery Collectibles Club of America®
REFRESH-INTERVAL;VALUE=DURATION:PT1H
X-Robots-Tag:noindex
X-PUBLISHED-TTL:PT1H
BEGIN:VTIMEZONE
TZID:America/Chicago
BEGIN:DAYLIGHT
TZOFFSETFROM:-0600
TZOFFSETTO:-0500
TZNAME:CDT
DTSTART:20220313T080000
END:DAYLIGHT
BEGIN:STANDARD
TZOFFSETFROM:-0500
TZOFFSETTO:-0600
TZNAME:CST
DTSTART:20221106T070000
END:STANDARD
END:VTIMEZONE
BEGIN:VEVENT
DTSTART;TZID=America/Chicago:20220501T120000
DTEND;TZID=America/Chicago:20220501T160000
DTSTAMP:20220907T065959
CREATED:20210223T193547Z
LAST-MODIFIED:20220131T021549Z
UID:79351-1651406400-1651420800@www.bcca.com
SUMMARY:B'Gosh It's Good Breweriana Show
DESCRIPTION:Bi-Annual Breweriana Show \nFree to the public and vendors \nIndoor and outdoor vendor space is available \nVendor set up is from 11am to noon \nVendors supply their own tables \nB'Gosh Its Good May 2022 Ad
URL:https://www.bcca.com/event2/bgosh-show/
LOCATION:Fifth Ward Brewing Company\, 1009 S. Main Street\, Oshkosh\, WI\, 54902\, United States
CATEGORIES:Wisconsin
ATTACH;FMTTYPE=image/jpeg:https://www.bcca.com/wp-content/uploads/2021/02/bgosh2.jpg
ORGANIZER;CN="Jared%20Sanchez":MAILTO:sanchez_bmx@hotmail.com
GEO:44.0090079;-88.5384211
X-APPLE-STRUCTURED-LOCATION;VALUE=URI;X-ADDRESS=Fifth Ward Brewing Company 1009 S. Main Street Oshkosh WI 54902 United States;X-APPLE-RADIUS=500;X-TITLE=1009 S. Main Street:geo:-88.5384211,44.0090079
END:VEVENT
END:VCALENDAR