BEGIN:VCALENDAR
VERSION:2.0
PRODID:-//Brewery Collectibles Club of America® - ECPv5.16.4//NONSGML v1.0//EN
CALSCALE:GREGORIAN
METHOD:PUBLISH
X-ORIGINAL-URL:https://www.bcca.com
X-WR-CALDESC:Events for Brewery Collectibles Club of America®
REFRESH-INTERVAL;VALUE=DURATION:PT1H
X-Robots-Tag:noindex
X-PUBLISHED-TTL:PT1H
BEGIN:VTIMEZONE
TZID:America/Detroit
BEGIN:DAYLIGHT
TZOFFSETFROM:-0500
TZOFFSETTO:-0400
TZNAME:EDT
DTSTART:20220313T070000
END:DAYLIGHT
BEGIN:STANDARD
TZOFFSETFROM:-0400
TZOFFSETTO:-0500
TZNAME:EST
DTSTART:20221106T060000
END:STANDARD
END:VTIMEZONE
BEGIN:VEVENT
DTSTART;TZID=America/Detroit:20220317T090000
DTEND;TZID=America/Detroit:20220319T140000
DTSTAMP:20220907T081427
CREATED:20201115T235448Z
LAST-MODIFIED:20220201T022241Z
UID:77089-1647507600-1647698400@www.bcca.com
SUMMARY:45th Annual  Luck O’ The Irish – Sponsored by Queen City Chapter
DESCRIPTION:Note new location on the Ohio River. Spectacular views \nPublic show on Saturday\, 19 March\, 2022 \nHotel Reservation Link: Click Here \nLuckOIrish-Poster2022 \nQCC_LOTI_2022-Registeration
URL:https://www.bcca.com/event2/luck-o-the-irish/
LOCATION:Radisson Cincinnati Riverfront Hotel\, 668 W. 5th Street\, Covington\, KY\, 41011\, United States
CATEGORIES:BCCA Chapter Show,Kentucky
ATTACH;FMTTYPE=image/png:https://www.bcca.com/wp-content/uploads/2020/09/queencity.png
ORGANIZER;CN="Beer%20Dave%20Gausepohl":MAILTO:beerdave@fuse.net
GEO:39.0856492;-84.5214816
X-APPLE-STRUCTURED-LOCATION;VALUE=URI;X-ADDRESS=Radisson Cincinnati Riverfront Hotel 668 W. 5th Street Covington KY 41011 United States;X-APPLE-RADIUS=500;X-TITLE=668 W. 5th Street:geo:-84.5214816,39.0856492
END:VEVENT
END:VCALENDAR