BEGIN:VCALENDAR
VERSION:2.0
PRODID:-//Brewery Collectibles Club of America® - ECPv5.16.4//NONSGML v1.0//EN
CALSCALE:GREGORIAN
METHOD:PUBLISH
X-WR-CALNAME:Brewery Collectibles Club of America®
X-ORIGINAL-URL:https://www.bcca.com
X-WR-CALDESC:Events for Brewery Collectibles Club of America®
REFRESH-INTERVAL;VALUE=DURATION:PT1H
X-Robots-Tag:noindex
X-PUBLISHED-TTL:PT1H
BEGIN:VTIMEZONE
TZID:America/Detroit
BEGIN:DAYLIGHT
TZOFFSETFROM:-0500
TZOFFSETTO:-0400
TZNAME:EDT
DTSTART:20220313T070000
END:DAYLIGHT
BEGIN:STANDARD
TZOFFSETFROM:-0400
TZOFFSETTO:-0500
TZNAME:EST
DTSTART:20221106T060000
END:STANDARD
END:VTIMEZONE
BEGIN:VEVENT
DTSTART;TZID=America/Detroit:20220216T090000
DTEND;TZID=America/Detroit:20220219T000000
DTSTAMP:20220907T074750
CREATED:20200903T220234Z
LAST-MODIFIED:20210831T023114Z
UID:73699-1645002000-1645228800@www.bcca.com
SUMMARY:42nd Annual "Rayner Johnson Memorial" BLUE-GRAY SHOW - Sponsored by the Capital City Chapter\, ECBA division of ABA and NABA
DESCRIPTION:Washington Dulles Hilton Hotel\n13869 Park Center Rd. Herndon\, VA\nFebruary 16 – 19\, 2022\n2 Floors – 180+ Rooms\, Two Hospitality Rooms\, The Back Bar Display\nAll Room-to-Room\, Easy In & Out – Set up Once and You’re Done !\nPre-Registration deadline is February 1\, 2020\nRegistration form Available at http://bluegrayshow.com\, or download below.\nTo reserve rooms\, call hotel directly; 703-478-2900 Deadline: January 15\, 2022\nSpecial Blue-Gray room rate begins Wednesday 2/16/22\nSaturday Night stay required for PREMIUM rooms & Location.\nSpecial Show Rate – $89 single / double – mention Blue-Gray Show or use this special link: Click Here \nPre-registered attendees $30 Entry for the entire show which Includes;\nBeer\, Hospitality Rooms\, Saturday Night Pizza\, Coffee/Donuts\, Soda & Snacks \nBlue-Gray-Show-2022
URL:https://www.bcca.com/event2/blue-gray/
LOCATION:Hilton Washington Dulles Airport\, 13869 Park Center Rd\, Herndon\, VA\, 20171\, United States
CATEGORIES:BCCA Chapter Show,Virginia
ATTACH;FMTTYPE=image/png:https://www.bcca.com/wp-content/uploads/2020/09/bglogo.png
ORGANIZER;CN="Larry%20Handy%20%28S%2FT%29":MAILTO:OhHugo1@aol.com
GEO:38.9331752;-77.4274355
X-APPLE-STRUCTURED-LOCATION;VALUE=URI;X-ADDRESS=Hilton Washington Dulles Airport 13869 Park Center Rd Herndon VA 20171 United States;X-APPLE-RADIUS=500;X-TITLE=13869 Park Center Rd:geo:-77.4274355,38.9331752
END:VEVENT
END:VCALENDAR