BEGIN:VCALENDAR
VERSION:2.0
PRODID:-//Brewery Collectibles Club of America® - ECPv5.16.4//NONSGML v1.0//EN
CALSCALE:GREGORIAN
METHOD:PUBLISH
X-ORIGINAL-URL:https://www.bcca.com
X-WR-CALDESC:Events for Brewery Collectibles Club of America®
REFRESH-INTERVAL;VALUE=DURATION:PT1H
X-Robots-Tag:noindex
X-PUBLISHED-TTL:PT1H
BEGIN:VTIMEZONE
TZID:America/New_York
BEGIN:DAYLIGHT
TZOFFSETFROM:-0500
TZOFFSETTO:-0400
TZNAME:EDT
DTSTART:20210314T070000
END:DAYLIGHT
BEGIN:STANDARD
TZOFFSETFROM:-0400
TZOFFSETTO:-0500
TZNAME:EST
DTSTART:20211107T060000
END:STANDARD
END:VTIMEZONE
BEGIN:VEVENT
DTSTART;TZID=America/New_York:20211009T100000
DTEND;TZID=America/New_York:20211009T140000
DTSTAMP:20220907T052554
CREATED:20200313T011040Z
LAST-MODIFIED:20210721T145008Z
UID:70751-1633773600-1633788000@www.bcca.com
SUMMARY:Breweriana Show and Sale - Sponsored by the Congress Chapter
DESCRIPTION:Show Features:\nFree Admission * Free Appraisals * Free Parking\nLots of Breweriana for all Collectors\nNovice thru Advanced\nDisplay of Central New York\nFeaturing SYRACUSE NY Items\nRaffle Prizes\nDealer Info:\n6′ Tables – $10/Each\nDealer Setup: 7am\nBreakfast and Lunch Available\nBar Open
URL:https://www.bcca.com/event2/congress-october/
LOCATION:Mattydale VFW Post 3146\, 2000 Lemoyne Ave.\, Syracuse\, 13208
CATEGORIES:BCCA Chapter Show,New York
ATTACH;FMTTYPE=image/png:https://www.bcca.com/wp-content/uploads/2015/06/congress.png
GEO:43.089333;-76.1439191
X-APPLE-STRUCTURED-LOCATION;VALUE=URI;X-ADDRESS=Mattydale VFW Post 3146 2000 Lemoyne Ave. Syracuse 13208;X-APPLE-RADIUS=500;X-TITLE=2000 Lemoyne Ave.:geo:-76.1439191,43.089333
END:VEVENT
END:VCALENDAR