BEGIN:VCALENDAR
VERSION:2.0
PRODID:-//Brewery Collectibles Club of America® - ECPv5.16.4//NONSGML v1.0//EN
CALSCALE:GREGORIAN
METHOD:PUBLISH
X-ORIGINAL-URL:https://www.bcca.com
X-WR-CALDESC:Events for Brewery Collectibles Club of America®
REFRESH-INTERVAL;VALUE=DURATION:PT1H
X-Robots-Tag:noindex
X-PUBLISHED-TTL:PT1H
BEGIN:VTIMEZONE
TZID:America/Chicago
BEGIN:DAYLIGHT
TZOFFSETFROM:-0600
TZOFFSETTO:-0500
TZNAME:CDT
DTSTART:20220313T080000
END:DAYLIGHT
BEGIN:STANDARD
TZOFFSETFROM:-0500
TZOFFSETTO:-0600
TZNAME:CST
DTSTART:20221106T070000
END:STANDARD
END:VTIMEZONE
BEGIN:VEVENT
DTSTART;TZID=America/Chicago:20220304T080000
DTEND;TZID=America/Chicago:20220306T230000
DTSTAMP:20220907T101022
CREATED:20201024T135839Z
LAST-MODIFIED:20220113T005408Z
UID:76319-1646380800-1646607600@www.bcca.com
SUMMARY:"CHEESEHEAD CANDEMIC 15" Online Show - the Sponsored by the Wisconsin Collectors Club
DESCRIPTION:Online Brewery Collectibles Show. \n\nInvite your friends. \nAll brewery collectors welcome\, \nwith all brewery collectibles.Get your brewery collectibles ready!! \nShow Facebook Page: Wisconsin Beer Can Collectors Club \n \n  \n 
URL:https://www.bcca.com/event2/cheesehead-candemic/
LOCATION:Online – Wisconsin Collectors Club\, Online\, WI\, United States
CATEGORIES:Online,Wisconsin
GEO:43.7844397;-88.7878678
X-APPLE-STRUCTURED-LOCATION;VALUE=URI;X-ADDRESS=Online – Wisconsin Collectors Club Online WI United States;X-APPLE-RADIUS=500;X-TITLE=Online:geo:-88.7878678,43.7844397
END:VEVENT
END:VCALENDAR