BEGIN:VCALENDAR
VERSION:2.0
PRODID:-//Brewery Collectibles Club of America® - ECPv5.16.4//NONSGML v1.0//EN
CALSCALE:GREGORIAN
METHOD:PUBLISH
X-WR-CALNAME:Brewery Collectibles Club of America®
X-ORIGINAL-URL:https://www.bcca.com
X-WR-CALDESC:Events for Brewery Collectibles Club of America®
REFRESH-INTERVAL;VALUE=DURATION:PT1H
X-Robots-Tag:noindex
X-PUBLISHED-TTL:PT1H
BEGIN:VTIMEZONE
TZID:America/Detroit
BEGIN:DAYLIGHT
TZOFFSETFROM:-0500
TZOFFSETTO:-0400
TZNAME:EDT
DTSTART:20210314T070000
END:DAYLIGHT
BEGIN:STANDARD
TZOFFSETFROM:-0400
TZOFFSETTO:-0500
TZNAME:EST
DTSTART:20211107T060000
END:STANDARD
END:VTIMEZONE
BEGIN:VEVENT
DTSTART;TZID=America/Detroit:20211224T060000
DTEND;TZID=America/Detroit:20211226T220000
DTSTAMP:20220907T052656
CREATED:20201114T162550Z
LAST-MODIFIED:20211212T175504Z
UID:76977-1640325600-1640556000@www.bcca.com
SUMMARY:Rusty Bunch Online Holiday Show
DESCRIPTION:The Rusty Bunch 12 Days of Christmas and Holiday Show:\nStarting December 14th the Rusty Bunch will be giving away Rusty Bunch Memberships and other nifty gifts for 12 straight days ending on Christmas! Show forum opens December 24th and runs through the 26th to post your traders\, then on Sunday evening we will hold the Annual Online Holiday Party hosted by Buddy the Elf. See the Forum for full details on the Holiday Show and watch for the Membership Drawings each night LIVE on Facebook.\nSHOW FORUM\nRusty Bunch Facebook Page
URL:https://www.bcca.com/event2/rusty-bunch-holiday/
LOCATION:Online – Rusty Bunch\, Online
CATEGORIES:BCCA Chapter Show,Online
ATTACH;FMTTYPE=image/jpeg:https://www.bcca.com/wp-content/uploads/2020/11/buddy.jpg
ORGANIZER;CN="Rusty%20Bunch":MAILTO:h2c2o4bath@gmail.com
GEO:37.6883305;-95.460253
X-APPLE-STRUCTURED-LOCATION;VALUE=URI;X-ADDRESS=Online – Rusty Bunch Online;X-APPLE-RADIUS=500;X-TITLE=Online:geo:-95.460253,37.6883305
END:VEVENT
END:VCALENDAR