BEGIN:VCALENDAR
VERSION:2.0
PRODID:-//Brewery Collectibles Club of America® - ECPv5.16.4//NONSGML v1.0//EN
CALSCALE:GREGORIAN
METHOD:PUBLISH
X-WR-CALNAME:Brewery Collectibles Club of America®
X-ORIGINAL-URL:https://www.bcca.com
X-WR-CALDESC:Events for Brewery Collectibles Club of America®
REFRESH-INTERVAL;VALUE=DURATION:PT1H
X-Robots-Tag:noindex
X-PUBLISHED-TTL:PT1H
BEGIN:VTIMEZONE
TZID:America/Chicago
BEGIN:DAYLIGHT
TZOFFSETFROM:-0600
TZOFFSETTO:-0500
TZNAME:CDT
DTSTART:20210314T080000
END:DAYLIGHT
BEGIN:STANDARD
TZOFFSETFROM:-0500
TZOFFSETTO:-0600
TZNAME:CST
DTSTART:20211107T070000
END:STANDARD
BEGIN:DAYLIGHT
TZOFFSETFROM:-0600
TZOFFSETTO:-0500
TZNAME:CDT
DTSTART:20220313T080000
END:DAYLIGHT
BEGIN:STANDARD
TZOFFSETFROM:-0500
TZOFFSETTO:-0600
TZNAME:CST
DTSTART:20221106T070000
END:STANDARD
TZID:America/Detroit
BEGIN:DAYLIGHT
TZOFFSETFROM:-0500
TZOFFSETTO:-0400
TZNAME:EDT
DTSTART:20220313T070000
END:DAYLIGHT
BEGIN:STANDARD
TZOFFSETFROM:-0400
TZOFFSETTO:-0500
TZNAME:EST
DTSTART:20221106T060000
END:STANDARD
END:VTIMEZONE
BEGIN:VEVENT
DTSTART;TZID=America/Chicago:20220514T140000
DTEND;TZID=America/Chicago:20220514T190000
DTSTAMP:20220907T051908
CREATED:20201111T002734Z
LAST-MODIFIED:20211231T002337Z
UID:76904-1652536800-1652554800@www.bcca.com
SUMMARY:BCCA Board Meeting @ the Combined Forces Show
DESCRIPTION:May 14th\, 2022 \nCombined Forces Show in Itasca\, IL \n2pm CST. – Also virtual via ZOOM from the comfort of your own home. \nBCCA Members Please Log In to Access the ZOOM Meeting Link Below
URL:https://www.bcca.com/event2/may-bod/
LOCATION:Church Street Brewing Co.\, 1480 Industrial Dr Unit C\, Itasca\, IL\, 60143\, United States
CATEGORIES:Board Meeting,Illinois,Online
ATTACH;FMTTYPE=image/jpeg:https://www.bcca.com/wp-content/uploads/2015/08/Logo_34.jpg
ORGANIZER;CN="BCCA":MAILTO:bcca@bcca.com
GEO:41.9680252;-87.9892807
X-APPLE-STRUCTURED-LOCATION;VALUE=URI;X-ADDRESS=Church Street Brewing Co. 1480 Industrial Dr Unit C Itasca IL 60143 United States;X-APPLE-RADIUS=500;X-TITLE=1480 Industrial Dr Unit C:geo:-87.9892807,41.9680252
END:VEVENT
BEGIN:VEVENT
DTSTART;TZID=America/Detroit:20220319T140000
DTEND;TZID=America/Detroit:20220319T190000
DTSTAMP:20220907T051908
CREATED:20211231T003510Z
LAST-MODIFIED:20220116T004532Z
UID:85114-1647698400-1647716400@www.bcca.com
SUMMARY:BCCA Board Meeting @ the Luck O' The Irish Show
DESCRIPTION:March 19th\, 2022 \n45th Annual Luck O’ The Irish Show – Covington\, KY \n2pm CST. – Also virtual via ZOOM from the comfort of your own home. \nBCCA Members Please Log In to Access the ZOOM Meeting Link Below
URL:https://www.bcca.com/event2/may-board-meeting/
LOCATION:Radisson Cincinnati Riverfront Hotel\, 668 W. 5th Street\, Covington\, KY\, 41011\, United States
CATEGORIES:Board Meeting,Kentucky,Online
ATTACH;FMTTYPE=image/jpeg:https://www.bcca.com/wp-content/uploads/2015/08/Logo_34.jpg
ORGANIZER;CN="BCCA":MAILTO:bcca@bcca.com
GEO:39.0856492;-84.5214816
X-APPLE-STRUCTURED-LOCATION;VALUE=URI;X-ADDRESS=Radisson Cincinnati Riverfront Hotel 668 W. 5th Street Covington KY 41011 United States;X-APPLE-RADIUS=500;X-TITLE=668 W. 5th Street:geo:-84.5214816,39.0856492
END:VEVENT
BEGIN:VEVENT
DTSTART;TZID=America/Chicago:20211106T140000
DTEND;TZID=America/Chicago:20211106T190000
DTSTAMP:20220907T051908
CREATED:20201111T001756Z
LAST-MODIFIED:20210829T011436Z
UID:76902-1636207200-1636225200@www.bcca.com
SUMMARY:BCCA Board Meeting - Fenton\, MO
DESCRIPTION:November 6th\nBCCA Office – Fenton\, MO \nTime: 2pm – 7pm CST
URL:https://www.bcca.com/event2/bcca-board/
LOCATION:BCCA Office\, 747 Merus Court\, Fenton\, MO\, 63026\, United States
CATEGORIES:Board Meeting,Missouri
ATTACH;FMTTYPE=image/jpeg:https://www.bcca.com/wp-content/uploads/2020/03/BCCAlogo.jpg
ORGANIZER;CN="BCCA":MAILTO:bcca@bcca.com
GEO:38.5399982;-90.4559535
X-APPLE-STRUCTURED-LOCATION;VALUE=URI;X-ADDRESS=BCCA Office 747 Merus Court Fenton MO 63026 United States;X-APPLE-RADIUS=500;X-TITLE=747 Merus Court:geo:-90.4559535,38.5399982
END:VEVENT
BEGIN:VEVENT
DTSTART;TZID=America/Chicago:20210626T130000
DTEND;TZID=America/Chicago:20210626T180000
DTSTAMP:20220907T051908
CREATED:20210511T201927Z
LAST-MODIFIED:20210511T202611Z
UID:80963-1624712400-1624730400@www.bcca.com
SUMMARY:BCCA Board Meeting @ the  Kansas Kolossal Kan Kaper
DESCRIPTION:June 26th\, 2021\nKansas Kolossal Kan Kaper show in Salina Kansas\n1:00 PM Central Time \nBCCA Members Please Log In to Access the ZOOM Meeting Link
URL:https://www.bcca.com/event2/bcca-board-june/
LOCATION:Best Western SureStay Hotel\, 1846 N. 9th Street\, Salina\, KS\, 67401\, United States
CATEGORIES:Board Meeting,Kansas
ATTACH;FMTTYPE=image/png:https://www.bcca.com/wp-content/uploads/2016/11/new50small.png
ORGANIZER;CN="BCCA":MAILTO:bcca@bcca.com
GEO:38.8726851;-97.6110617
X-APPLE-STRUCTURED-LOCATION;VALUE=URI;X-ADDRESS=Best Western SureStay Hotel 1846 N. 9th Street Salina KS 67401 United States;X-APPLE-RADIUS=500;X-TITLE=1846 N. 9th Street:geo:-97.6110617,38.8726851
END:VEVENT
END:VCALENDAR