BEGIN:VCALENDAR
VERSION:2.0
PRODID:-//Brewery Collectibles Club of America® - ECPv5.16.4//NONSGML v1.0//EN
CALSCALE:GREGORIAN
METHOD:PUBLISH
X-ORIGINAL-URL:https://www.bcca.com
X-WR-CALDESC:Events for Brewery Collectibles Club of America®
REFRESH-INTERVAL;VALUE=DURATION:PT1H
X-Robots-Tag:noindex
X-PUBLISHED-TTL:PT1H
BEGIN:VTIMEZONE
TZID:America/Detroit
BEGIN:DAYLIGHT
TZOFFSETFROM:-0500
TZOFFSETTO:-0400
TZNAME:EDT
DTSTART:20220313T070000
END:DAYLIGHT
BEGIN:STANDARD
TZOFFSETFROM:-0400
TZOFFSETTO:-0500
TZNAME:EST
DTSTART:20221106T060000
END:STANDARD
END:VTIMEZONE
BEGIN:VEVENT
DTSTART;TZID=America/Detroit:20220124T190000
DTEND;TZID=America/Detroit:20220124T220000
DTSTAMP:20220907T052304
CREATED:20220105T035034Z
LAST-MODIFIED:20220124T224601Z
UID:85260-1643050800-1643061600@www.bcca.com
SUMMARY:Beer Cans 87th Birthday Online Show - Sponsored by the Rusty Bunch Chapter
DESCRIPTION:Help the Rusty Bunch Celebrate \nthe Beer Cans 87th Birthday \nJoin the Rusty Bunch January 24th\, 7pm – 10pm EST \nas we celebrate our beloved Beer Cans 85th BirthdayBeer Cans Given Out All Night LongJoin via the Chatroom or ZOOM \nSee the forum for details: Click Here
URL:https://www.bcca.com/event2/beer-cans-birthday/
LOCATION:Online – Rusty Bunch\, Online
CATEGORIES:BCCA Chapter Show,Online
ATTACH;FMTTYPE=image/jpeg:https://www.bcca.com/wp-content/uploads/2022/01/BirthdayCake.jpg
ORGANIZER;CN="Rusty%20Bunch":MAILTO:h2c2o4bath@gmail.com
GEO:37.6883305;-95.460253
X-APPLE-STRUCTURED-LOCATION;VALUE=URI;X-ADDRESS=Online – Rusty Bunch Online;X-APPLE-RADIUS=500;X-TITLE=Online:geo:-95.460253,37.6883305
END:VEVENT
END:VCALENDAR