BEGIN:VCALENDAR
VERSION:2.0
PRODID:-//Brewery Collectibles Club of America® - ECPv5.16.4//NONSGML v1.0//EN
CALSCALE:GREGORIAN
METHOD:PUBLISH
X-ORIGINAL-URL:https://www.bcca.com
X-WR-CALDESC:Events for Brewery Collectibles Club of America®
REFRESH-INTERVAL;VALUE=DURATION:PT1H
X-Robots-Tag:noindex
X-PUBLISHED-TTL:PT1H
BEGIN:VTIMEZONE
TZID:America/Detroit
BEGIN:DAYLIGHT
TZOFFSETFROM:-0500
TZOFFSETTO:-0400
TZNAME:EDT
DTSTART:20210314T070000
END:DAYLIGHT
BEGIN:STANDARD
TZOFFSETFROM:-0400
TZOFFSETTO:-0500
TZNAME:EST
DTSTART:20211107T060000
END:STANDARD
END:VTIMEZONE
BEGIN:VEVENT
DTSTART;VALUE=DATE:20210327
DTEND;VALUE=DATE:20210329
DTSTAMP:20220907T110339
CREATED:20210228T183440Z
LAST-MODIFIED:20210324T235705Z
UID:79409-1616803200-1616975999@www.bcca.com
SUMMARY:April Fools Online Show - Sponsored by the The Rusty Bunch Chapter
DESCRIPTION:Come join Monty Hall and the Rusty Bunch for an Online Trade Show like no other. \nMonty Hall will be hosting “Let’s Make a Deal” Sunday evening and handing out fabulous prizes ! \nThis will be a 2 day show starting Saturday morning\, with Sunday 7pm – 10pm being the Monty Hall part of the show. \nClick Here for More Information
URL:https://www.bcca.com/event2/april-fools-online-show-sponsored-by-the-the-rusty-bunch-chapter/
LOCATION:Online – Rusty Bunch\, Online
CATEGORIES:BCCA Chapter Show,Online
ATTACH;FMTTYPE=image/jpeg:https://www.bcca.com/wp-content/uploads/2021/02/Monty-stand.jpg
ORGANIZER;CN="Rusty%20Bunch":MAILTO:h2c2o4bath@gmail.com
GEO:37.6883305;-95.460253
X-APPLE-STRUCTURED-LOCATION;VALUE=URI;X-ADDRESS=Online – Rusty Bunch Online;X-APPLE-RADIUS=500;X-TITLE=Online:geo:-95.460253,37.6883305
END:VEVENT
END:VCALENDAR