BEGIN:VCALENDAR
VERSION:2.0
PRODID:-//Brewery Collectibles Club of America® - ECPv5.16.4//NONSGML v1.0//EN
CALSCALE:GREGORIAN
METHOD:PUBLISH
X-WR-CALNAME:Brewery Collectibles Club of America®
X-ORIGINAL-URL:https://www.bcca.com
X-WR-CALDESC:Events for Brewery Collectibles Club of America®
REFRESH-INTERVAL;VALUE=DURATION:PT1H
X-Robots-Tag:noindex
X-PUBLISHED-TTL:PT1H
BEGIN:VTIMEZONE
TZID:America/Detroit
BEGIN:DAYLIGHT
TZOFFSETFROM:-0500
TZOFFSETTO:-0400
TZNAME:EDT
DTSTART:20210314T070000
END:DAYLIGHT
BEGIN:STANDARD
TZOFFSETFROM:-0400
TZOFFSETTO:-0500
TZNAME:EST
DTSTART:20211107T060000
END:STANDARD
BEGIN:DAYLIGHT
TZOFFSETFROM:-0500
TZOFFSETTO:-0400
TZNAME:EDT
DTSTART:20220313T070000
END:DAYLIGHT
BEGIN:STANDARD
TZOFFSETFROM:-0400
TZOFFSETTO:-0500
TZNAME:EST
DTSTART:20221106T060000
END:STANDARD
END:VTIMEZONE
BEGIN:VEVENT
DTSTART;TZID=America/Detroit:20211128T080000
DTEND;TZID=America/Detroit:20211128T140000
DTSTAMP:20220906T100144
CREATED:20201026T021442Z
LAST-MODIFIED:20211106T021935Z
UID:76395-1638086400-1638108000@www.bcca.com
SUMMARY:Sunday After Thanksgiving Show - Sponsored by the Queen City Chapter
DESCRIPTION:Annual Show at NEW location: Little Miami Brewing Co. Located on the beautiful Little Miami River. Walk-ins $5\, Admission with table only $15
URL:https://www.bcca.com/event2/queen-city-thanksgiving/
LOCATION:Little Miami Brewing Co.\, 208 Mill St.\, Milford\, OH\, Milford\, United States
CATEGORIES:BCCA Chapter Show,Ohio
ATTACH;FMTTYPE=image/png:https://www.bcca.com/wp-content/uploads/2020/09/queencity.png
ORGANIZER;CN="Doug%20Groth":MAILTO:truckwashdoug@aol.com
GEO:39.1719151;-84.2972698
X-APPLE-STRUCTURED-LOCATION;VALUE=URI;X-ADDRESS=Little Miami Brewing Co. 208 Mill St. Milford OH Milford United States;X-APPLE-RADIUS=500;X-TITLE=208 Mill St.:geo:-84.2972698,39.1719151
END:VEVENT
BEGIN:VEVENT
DTSTART;TZID=America/Detroit:20220312T090000
DTEND;TZID=America/Detroit:20220312T140000
DTSTAMP:20220906T100144
CREATED:20201129T191104Z
LAST-MODIFIED:20211211T163821Z
UID:77424-1647075600-1647093600@www.bcca.com
SUMMARY:47th Annual Buckeye Beer Show - Sponsored by the Buckeye Chapter
DESCRIPTION:2 Full floors of brewery collectibles. 2 Huge raffles\, icld. 4 neons\, lighted signs\, cans\, tins and much much more. Lots of walk-ins. Over 200 tables. One of the biggest shows in the region. Open to the public. Pre Set up the night before from 12-6. Food and drink available\, also the Glass City Mashers will be there again with a Taste of Toledo and surrounding areas. Hope to see you there it will be extra fun since we did not get to have it last year do to Covid. \nBuckeye-2022
URL:https://www.bcca.com/event2/buckeye-beer-show/
LOCATION:UAW Local 14\, 5411 Jackman Rd.\, Toledo\, OH\, 43613\, United States
CATEGORIES:BCCA Chapter Show,Ohio
ATTACH;FMTTYPE=image/png:https://www.bcca.com/wp-content/uploads/2020/09/Buckeye1.png
ORGANIZER;CN="John%20Huff":MAILTO:cadiac500@aol.com
GEO:41.7144051;-83.5863073
X-APPLE-STRUCTURED-LOCATION;VALUE=URI;X-ADDRESS=UAW Local 14 5411 Jackman Rd. Toledo OH 43613 United States;X-APPLE-RADIUS=500;X-TITLE=5411 Jackman Rd.:geo:-83.5863073,41.7144051
END:VEVENT
BEGIN:VEVENT
DTSTART;TZID=America/Detroit:20220403T100000
DTEND;TZID=America/Detroit:20220403T150000
DTSTAMP:20220906T100144
CREATED:20210828T205444Z
LAST-MODIFIED:20220303T023350Z
UID:82812-1648980000-1648998000@www.bcca.com
SUMMARY:Annual Spring Breweriana Show - Sponsored by the Lake Erie Chapter
DESCRIPTION:Come to the Lake Erie Chapter’s Spring brewery collectibles show at the country club turned craft brewery and event center. The spacious Blue Heron Brewery & Event center is located just a short distance from the highway. The atmosphere is amazing and so is the beer and food. A full cash bar will be available which includes two of Blue Heron’s signature craft beers as well as Bud Light\, Blue Moon\, wine and liquor. An all you can eat buffet will also be available for purchase. Tables cost just $15. each. Reserve your table today by contacting Pat Newton at 216-548-8542 or by email: patrick.newton@safelite.com. \nLake-Erie-2022
URL:https://www.bcca.com/event2/blue-heron-lake-erie/
LOCATION:Blue Heron Brewery and Event Center\, 3227 Blue Heron Trace\, Medina\, OH\, 44256\, United States
CATEGORIES:BCCA Chapter Show,Ohio
ATTACH;FMTTYPE=image/png:https://www.bcca.com/wp-content/uploads/2018/11/Lake-Erie.png
ORGANIZER;CN="Pat%20Newton":MAILTO:patrick.newton@safelite.com
GEO:41.1126214;-81.8045222
X-APPLE-STRUCTURED-LOCATION;VALUE=URI;X-ADDRESS=Blue Heron Brewery and Event Center 3227 Blue Heron Trace Medina OH 44256 United States;X-APPLE-RADIUS=500;X-TITLE=3227 Blue Heron Trace:geo:-81.8045222,41.1126214
END:VEVENT
BEGIN:VEVENT
DTSTART;TZID=America/Detroit:20220424T080000
DTEND;TZID=America/Detroit:20220424T133000
DTSTAMP:20220906T100144
CREATED:20210322T030547Z
LAST-MODIFIED:20220327T195615Z
UID:80019-1650787200-1650807000@www.bcca.com
SUMMARY:Spring Fling – Sponsored by the Gambrinus Chapter
DESCRIPTION:The only buy\, sell\, trade show in Columbus Ohio. Nice raffle with neon. \nKing-Spring-Fling-2022
URL:https://www.bcca.com/event2/gambrinus-spring-fling/
LOCATION:Makoy Center\, 5462 N. Center Street\, Hilliard\, OH\, 43026\, United States
CATEGORIES:BCCA Chapter Show,Ohio
ATTACH;FMTTYPE=image/png:https://www.bcca.com/wp-content/uploads/2020/09/Gambrinus.png
ORGANIZER;CN="Doug%20Blegen":MAILTO:Dblegen@msconsultants.com
GEO:40.0372258;-83.1637115
X-APPLE-STRUCTURED-LOCATION;VALUE=URI;X-ADDRESS=Makoy Center 5462 N. Center Street Hilliard OH 43026 United States;X-APPLE-RADIUS=500;X-TITLE=5462 N. Center Street:geo:-83.1637115,40.0372258
END:VEVENT
BEGIN:VEVENT
DTSTART;TZID=America/Detroit:20220617T080000
DTEND;TZID=America/Detroit:20220618T150000
DTSTAMP:20220906T100144
CREATED:20210114T224643Z
LAST-MODIFIED:20211004T220427Z
UID:78688-1655452800-1655564400@www.bcca.com
SUMMARY:47th Annual Ohio Mini-Canvention & Breweriana Show - Sponsored by the Miami Valley Chapter
DESCRIPTION:47th Annual Ohio Mini-Canvention & Breweriana Show held annually at the Warren County Fairgrounds-Lebanon\, OH. BUY-SELL-TRADE Event. Friday begins at 8:00am and will go for the whole day and into the evening. Saturday normally from 8:00am until 2:00pm approximately. Food Trucks on-site both days\, Great Beer On-Tap.\n \nMultiple Raffles both Friday and Saturday with our consignment auction at Noon on Saturday. Table rental available for one or both day. Approximately 150 tables inside the air conditioned Event Center & plenty of space to set up outside by your vehicle. Camping available at the back park are of the Fairgrounds\, hook ups and electricity included $20/Day. Shower Facilities also included for campers. Travel Trailers\, Tent Camping\, Pop-Up Campers all available to utilize this facility at the Fairgrounds.wn tables.
URL:https://www.bcca.com/event2/ohio-mini-canvention/
LOCATION:Warren County Fairgrounds\, 665 North Broadway Street\, Lebanon\, OH\, 45036\, United States
CATEGORIES:BCCA Chapter Show,Ohio
ATTACH;FMTTYPE=image/png:https://www.bcca.com/wp-content/uploads/2018/11/miamiv-e1543024187552.png
ORGANIZER;CN="Rick%20Ordeman":MAILTO:rick@ordesignenv.com
GEO:39.4466206;-84.2089849
X-APPLE-STRUCTURED-LOCATION;VALUE=URI;X-ADDRESS=Warren County Fairgrounds 665 North Broadway Street Lebanon OH 45036 United States;X-APPLE-RADIUS=500;X-TITLE=665 North Broadway Street:geo:-84.2089849,39.4466206
END:VEVENT
BEGIN:VEVENT
DTSTART;TZID=America/Detroit:20220904T090000
DTEND;TZID=America/Detroit:20220904T130000
DTSTAMP:20220906T100144
CREATED:20200911T023451Z
LAST-MODIFIED:20220811T000528Z
UID:73754-1662282000-1662296400@www.bcca.com
SUMMARY:Beer Cans and Brewery Collectibles "Pop-Up Show" - Sponsored by the Miami Valley and Queen City Chapters
DESCRIPTION:3rd Annual Wiedemann Show. GREAT venue. Outdoor show in the huge beer garden of Wiedemann Fine Beers facility. A great way to break up the drive to CANvention. Last minute date change allows us to utilize BIG tent in case of rain. Free use of tables – feel free to bring along an extra. Many of our vendors set up in the adjacent parking lot and work out of their cars and vans. $15 set-up fee for vendors.\nWalk-ins free. BCCA member Jon Newberry and the entire staff of Wiedemann are the ultimate hosts. \nVintage-Beer-Can-Brewery-Show-Flyer-2022
URL:https://www.bcca.com/event2/wiedemann-show/
LOCATION:Geo Wiedemann Brewing Company\, 4811 Vine Street\, Cincinnati\, OH\, 45217\, United States
CATEGORIES:BCCA Chapter Show,Ohio
ATTACH;FMTTYPE=image/png:https://www.bcca.com/wp-content/uploads/2020/09/mvc.png
ORGANIZER;CN="Doug%20Groth":MAILTO:truckwashdoug@aol.com
GEO:39.1683338;-84.4977404
X-APPLE-STRUCTURED-LOCATION;VALUE=URI;X-ADDRESS=Geo Wiedemann Brewing Company 4811 Vine Street Cincinnati OH 45217 United States;X-APPLE-RADIUS=500;X-TITLE=4811 Vine Street:geo:-84.4977404,39.1683338
END:VEVENT
END:VCALENDAR