BEGIN:VCALENDAR
VERSION:2.0
PRODID:-//Brewery Collectibles Club of America® - ECPv5.16.4//NONSGML v1.0//EN
CALSCALE:GREGORIAN
METHOD:PUBLISH
X-ORIGINAL-URL:https://www.bcca.com
X-WR-CALDESC:Events for Brewery Collectibles Club of America®
REFRESH-INTERVAL;VALUE=DURATION:PT1H
X-Robots-Tag:noindex
X-PUBLISHED-TTL:PT1H
BEGIN:VTIMEZONE
TZID:America/Chicago
BEGIN:DAYLIGHT
TZOFFSETFROM:-0600
TZOFFSETTO:-0500
TZNAME:CDT
DTSTART:20220313T080000
END:DAYLIGHT
BEGIN:STANDARD
TZOFFSETFROM:-0500
TZOFFSETTO:-0600
TZNAME:CST
DTSTART:20221106T070000
END:STANDARD
END:VTIMEZONE
BEGIN:VEVENT
DTSTART;TZID=America/Chicago:20221001T090000
DTEND;TZID=America/Chicago:20221001T160000
DTSTAMP:20220907T014042
CREATED:20210408T202225Z
LAST-MODIFIED:20220817T022044Z
UID:80225-1664614800-1664640000@www.bcca.com
SUMMARY:Dakota Chapter Beer Can & Collectibles Show – Sponsored by Dakota Chapter
DESCRIPTION:4th annual show\n40 plus tables\n8 ft. Tables\nDakota Chapter Members $10 ea.\nNon-chapter members $15 ea.\nFood on premise\nEasy load and unload no steps.\nOur show has grown each year with walk ins and dealer sales.\nFor more information contact Dale Vincent 701-220-1930 or Aric Lee 701-721-5326 \nDakota-Oct-2022\n 
URL:https://www.bcca.com/event2/dakota-show/
LOCATION:Bismarck Eagles Club\, 313 N 26th St\, Bismarck\, ND\, 58503\, United States
CATEGORIES:BCCA Chapter Show,North Dakota
ATTACH;FMTTYPE=image/jpeg:https://www.bcca.com/wp-content/uploads/2022/02/DC-Logo.jpg
GEO:46.8078108;-100.7514738
X-APPLE-STRUCTURED-LOCATION;VALUE=URI;X-ADDRESS=Bismarck Eagles Club 313 N 26th St Bismarck ND 58503 United States;X-APPLE-RADIUS=500;X-TITLE=313 N 26th St:geo:-100.7514738,46.8078108
END:VEVENT
END:VCALENDAR