BEGIN:VCALENDAR
VERSION:2.0
PRODID:-//Brewery Collectibles Club of America® - ECPv5.16.4//NONSGML v1.0//EN
CALSCALE:GREGORIAN
METHOD:PUBLISH
X-ORIGINAL-URL:https://www.bcca.com
X-WR-CALDESC:Events for Brewery Collectibles Club of America®
REFRESH-INTERVAL;VALUE=DURATION:PT1H
X-Robots-Tag:noindex
X-PUBLISHED-TTL:PT1H
BEGIN:VTIMEZONE
TZID:America/Detroit
BEGIN:DAYLIGHT
TZOFFSETFROM:-0500
TZOFFSETTO:-0400
TZNAME:EDT
DTSTART:20220313T070000
END:DAYLIGHT
BEGIN:STANDARD
TZOFFSETFROM:-0400
TZOFFSETTO:-0500
TZNAME:EST
DTSTART:20221106T060000
END:STANDARD
END:VTIMEZONE
BEGIN:VEVENT
DTSTART;TZID=America/Detroit:20221105T080000
DTEND;TZID=America/Detroit:20221105T140000
DTSTAMP:20220906T063351
CREATED:20200914T221401Z
LAST-MODIFIED:20220815T234144Z
UID:74183-1667635200-1667656800@www.bcca.com
SUMMARY:3rd Annual Sandhills Beer Show Sponsored by Atlantic and Richbrau Chapters
DESCRIPTION:A great show at a wonderful venue! Hugger Mugger Brewery is the site\, and the taps will be manned throughout the show. Come in to a 8AM-2PM show\, with an Open House the night before the show.\nRegister early\, tables sell out every year. Last year we had collectors from 10 states. \nSandhills-Flyer-2022
URL:https://www.bcca.com/event2/sandhills-beer-show/
LOCATION:Hugger Mugger Brewing Company\, 229 Wicker Street\, Sanford\, NC\, 27330\, United States
CATEGORIES:North Carolina
ATTACH;FMTTYPE=image/jpeg:https://www.bcca.com/wp-content/uploads/2015/05/Atlantic.jpg
ORGANIZER;CN="Jim%20Romine":MAILTO:jromine@windstream.net
GEO:35.478711;-79.178678
X-APPLE-STRUCTURED-LOCATION;VALUE=URI;X-ADDRESS=Hugger Mugger Brewing Company 229 Wicker Street Sanford NC 27330 United States;X-APPLE-RADIUS=500;X-TITLE=229 Wicker Street:geo:-79.178678,35.478711
END:VEVENT
END:VCALENDAR