BEGIN:VCALENDAR
VERSION:2.0
PRODID:-//Brewery Collectibles Club of America® - ECPv5.16.4//NONSGML v1.0//EN
CALSCALE:GREGORIAN
METHOD:PUBLISH
X-WR-CALNAME:Brewery Collectibles Club of America®
X-ORIGINAL-URL:https://www.bcca.com
X-WR-CALDESC:Events for Brewery Collectibles Club of America®
REFRESH-INTERVAL;VALUE=DURATION:PT1H
X-Robots-Tag:noindex
X-PUBLISHED-TTL:PT1H
BEGIN:VTIMEZONE
TZID:America/New_York
BEGIN:DAYLIGHT
TZOFFSETFROM:-0500
TZOFFSETTO:-0400
TZNAME:EDT
DTSTART:20220313T070000
END:DAYLIGHT
BEGIN:STANDARD
TZOFFSETFROM:-0400
TZOFFSETTO:-0500
TZNAME:EST
DTSTART:20221106T060000
END:STANDARD
END:VTIMEZONE
BEGIN:VEVENT
DTSTART;TZID=America/New_York:20221030T100000
DTEND;TZID=America/New_York:20221030T150000
DTSTAMP:20220906T113740
CREATED:20210721T211527Z
LAST-MODIFIED:20220506T014615Z
UID:82202-1667124000-1667142000@www.bcca.com
SUMMARY:Oktoberfest - Sponsored by the Garden State Chapter
DESCRIPTION:Cans • Bottles • Neons • Trays • Glasses \nTap Knobs • Openers • Coasters • Labels • Signs \nPosters • Sports Schedules • Ads • More! \nOktoberfest-2022
URL:https://www.bcca.com/event2/oktoberfest-garden-state/
LOCATION:Polish Cultural Foundation\, 177 Broadway\, Clark\, NJ\, 07066\, United States
CATEGORIES:BCCA Chapter Show,New York
ATTACH;FMTTYPE=image/png:https://www.bcca.com/wp-content/uploads/2020/09/GardenState.png
ORGANIZER;CN="Marc%20Helders":MAILTO:Marchelders@hotmail.com
GEO:40.6222013;-74.301273
X-APPLE-STRUCTURED-LOCATION;VALUE=URI;X-ADDRESS=Polish Cultural Foundation 177 Broadway Clark NJ 07066 United States;X-APPLE-RADIUS=500;X-TITLE=177 Broadway:geo:-74.301273,40.6222013
END:VEVENT
END:VCALENDAR