BEGIN:VCALENDAR
VERSION:2.0
PRODID:-//Brewery Collectibles Club of America® - ECPv5.16.4//NONSGML v1.0//EN
CALSCALE:GREGORIAN
METHOD:PUBLISH
X-ORIGINAL-URL:https://www.bcca.com
X-WR-CALDESC:Events for Brewery Collectibles Club of America®
REFRESH-INTERVAL;VALUE=DURATION:PT1H
X-Robots-Tag:noindex
X-PUBLISHED-TTL:PT1H
BEGIN:VTIMEZONE
TZID:America/Chicago
BEGIN:DAYLIGHT
TZOFFSETFROM:-0600
TZOFFSETTO:-0500
TZNAME:CDT
DTSTART:20220313T080000
END:DAYLIGHT
BEGIN:STANDARD
TZOFFSETFROM:-0500
TZOFFSETTO:-0600
TZNAME:CST
DTSTART:20221106T070000
END:STANDARD
END:VTIMEZONE
BEGIN:VEVENT
DTSTART;TZID=America/Chicago:20220430T090000
DTEND;TZID=America/Chicago:20220430T130000
DTSTAMP:20220906T063839
CREATED:20220226T004619Z
LAST-MODIFIED:20220226T005625Z
UID:86225-1651309200-1651323600@www.bcca.com
SUMMARY:The Mike Murphy/Scott Rollert Memorial Brewery Collectible Show - Sponsored by the Roadrunner Chapter
DESCRIPTION:BREWERY COLLECTIBLE SHOW \nroadrunner-2022-me
URL:https://www.bcca.com/event2/roadrunner-memorial/
LOCATION:Kilt Check Brewing Company\, 4814 Hardware Dr NE\, Albuquerque\, NM\, 87109\, United States
CATEGORIES:BCCA Chapter Show,New Mexico
ATTACH;FMTTYPE=image/jpeg:https://www.bcca.com/wp-content/uploads/2022/02/rr.jpg
ORGANIZER;CN="Dan%20Scoglietti":MAILTO:canmandan@aol.com
GEO:35.1364451;-106.5894774
X-APPLE-STRUCTURED-LOCATION;VALUE=URI;X-ADDRESS=Kilt Check Brewing Company 4814 Hardware Dr NE Albuquerque NM 87109 United States;X-APPLE-RADIUS=500;X-TITLE=4814 Hardware Dr NE:geo:-106.5894774,35.1364451
END:VEVENT
END:VCALENDAR