BEGIN:VCALENDAR
VERSION:2.0
PRODID:-//Brewery Collectibles Club of America® - ECPv5.16.4//NONSGML v1.0//EN
CALSCALE:GREGORIAN
METHOD:PUBLISH
X-ORIGINAL-URL:https://www.bcca.com
X-WR-CALDESC:Events for Brewery Collectibles Club of America®
REFRESH-INTERVAL;VALUE=DURATION:PT1H
X-Robots-Tag:noindex
X-PUBLISHED-TTL:PT1H
BEGIN:VTIMEZONE
TZID:America/New_York
BEGIN:DAYLIGHT
TZOFFSETFROM:-0500
TZOFFSETTO:-0400
TZNAME:EDT
DTSTART:20220313T070000
END:DAYLIGHT
BEGIN:STANDARD
TZOFFSETFROM:-0400
TZOFFSETTO:-0500
TZNAME:EST
DTSTART:20221106T060000
END:STANDARD
END:VTIMEZONE
BEGIN:VEVENT
DTSTART;TZID=America/New_York:20220206T100000
DTEND;TZID=America/New_York:20220206T150000
DTSTAMP:20220906T213558
CREATED:20210104T221133Z
LAST-MODIFIED:20211011T004714Z
UID:78428-1644141600-1644159600@www.bcca.com
SUMMARY:Kick Off Classic Sponsored by the Garden State Chapter
DESCRIPTION:Kickoff-2022\n 
URL:https://www.bcca.com/event2/kickoff-classic/
LOCATION:Polish Cultural Foundation\, 177 Broadway\, Clark\, NJ\, 07066\, United States
CATEGORIES:BCCA Chapter Show,New Jersey
ATTACH;FMTTYPE=image/png:https://www.bcca.com/wp-content/uploads/2020/09/GardenState.png
ORGANIZER;CN="Mark%20Helders":MAILTO:marchelders@hotmail.com
GEO:40.6222013;-74.301273
X-APPLE-STRUCTURED-LOCATION;VALUE=URI;X-ADDRESS=Polish Cultural Foundation 177 Broadway Clark NJ 07066 United States;X-APPLE-RADIUS=500;X-TITLE=177 Broadway:geo:-74.301273,40.6222013
END:VEVENT
BEGIN:VEVENT
DTSTART;TZID=America/New_York:20220227T083000
DTEND;TZID=America/New_York:20220227T143000
DTSTAMP:20220906T213558
CREATED:20201130T162515Z
LAST-MODIFIED:20220120T025858Z
UID:77469-1645950600-1645972200@www.bcca.com
SUMMARY:Jersey Shore Chapter Tribute Show – Sponsored by the Jersey Shore Chapter
DESCRIPTION:Brewery Collectibles Show paying tribute to our departed chapter members. Join us if you are looking for cans\, bottles\, signs\, neons or any other type of breweriana. Breakfast and lunch provided by the Milltown Volunteer Fire Department\, Craft beer included with admission provided by our local breweries. Come celebrate our 44th year as a chapter.
URL:https://www.bcca.com/event2/js-tribute/
LOCATION:American Legion Joyce Kilmer Post No. 25\, 4 J F Kennedy Drive\, Milltown\, NJ\, 08850\, United States
CATEGORIES:BCCA Chapter Show,New Jersey
ATTACH;FMTTYPE=image/png:https://www.bcca.com/wp-content/uploads/2020/09/jerseyshore.png
ORGANIZER;CN="Joe%20Radman":MAILTO:radman6898@aol.com
GEO:40.4512942;-74.4357116
X-APPLE-STRUCTURED-LOCATION;VALUE=URI;X-ADDRESS=American Legion Joyce Kilmer Post No. 25 4 J F Kennedy Drive Milltown NJ 08850 United States;X-APPLE-RADIUS=500;X-TITLE=4 J F Kennedy Drive:geo:-74.4357116,40.4512942
END:VEVENT
END:VCALENDAR