BEGIN:VCALENDAR
VERSION:2.0
PRODID:-//Brewery Collectibles Club of America® - ECPv5.16.4//NONSGML v1.0//EN
CALSCALE:GREGORIAN
METHOD:PUBLISH
X-ORIGINAL-URL:https://www.bcca.com
X-WR-CALDESC:Events for Brewery Collectibles Club of America®
REFRESH-INTERVAL;VALUE=DURATION:PT1H
X-Robots-Tag:noindex
X-PUBLISHED-TTL:PT1H
BEGIN:VTIMEZONE
TZID:America/New_York
BEGIN:DAYLIGHT
TZOFFSETFROM:-0500
TZOFFSETTO:-0400
TZNAME:EDT
DTSTART:20220313T070000
END:DAYLIGHT
BEGIN:STANDARD
TZOFFSETFROM:-0400
TZOFFSETTO:-0500
TZNAME:EST
DTSTART:20221106T060000
END:STANDARD
END:VTIMEZONE
BEGIN:VEVENT
DTSTART;TZID=America/New_York:20221009T083000
DTEND;TZID=America/New_York:20221009T143000
DTSTAMP:20220906T214134
CREATED:20200707T012348Z
LAST-MODIFIED:20220719T004233Z
UID:72618-1665304200-1665325800@www.bcca.com
SUMMARY:Jersey Shore Chapter's 44th Anniversary Full Moon Show – Sponsored by the Jersey Shore Chapter
DESCRIPTION:JSC’S 44TH ANNUAL FULL MOON ANNIVERSARY SHOW. B/S/T. A HUGE ARRAY OF BREWERY COLLECTIBLES! LARGE UPSTAIRS HALL W/ELEVATOR ACCESS. GREAT 50/50 RAFFLE! BREAKFAST AND LUNCH PROVIDED BY THE MILLTOWN FIRE DEPT. FEATURING JERSEY’S FAMOUS PORK ROLL\, EGG AND CHEESE SANDWICHES\, HOT DOGS AND PICKLED EGGS! (ALL FOOD SALES PROCEEDS ARE DONATIONS TO THE MFD). NJ CRAFT REFRESHMENTS PROVIDED! ALL BCCA/ABA/NABA MEMBERS AND GUESTS INVITED. \njerseyshore-2022
URL:https://www.bcca.com/event2/jersey-shore-anniversary/
LOCATION:American Legion Joyce Kilmer Post No. 25\, 4 J F Kennedy Drive\, Milltown\, NJ\, 08850\, United States
CATEGORIES:BCCA Chapter Show,New Jersey
ATTACH;FMTTYPE=image/png:https://www.bcca.com/wp-content/uploads/2020/09/jerseyshore.png
ORGANIZER;CN="Joe%20Radman":MAILTO:radman6898@aol.com
GEO:40.4512942;-74.4357116
X-APPLE-STRUCTURED-LOCATION;VALUE=URI;X-ADDRESS=American Legion Joyce Kilmer Post No. 25 4 J F Kennedy Drive Milltown NJ 08850 United States;X-APPLE-RADIUS=500;X-TITLE=4 J F Kennedy Drive:geo:-74.4357116,40.4512942
END:VEVENT
END:VCALENDAR