BEGIN:VCALENDAR
VERSION:2.0
PRODID:-//Brewery Collectibles Club of America® - ECPv5.16.4//NONSGML v1.0//EN
CALSCALE:GREGORIAN
METHOD:PUBLISH
X-ORIGINAL-URL:https://www.bcca.com
X-WR-CALDESC:Events for Brewery Collectibles Club of America®
REFRESH-INTERVAL;VALUE=DURATION:PT1H
X-Robots-Tag:noindex
X-PUBLISHED-TTL:PT1H
BEGIN:VTIMEZONE
TZID:America/Chicago
BEGIN:DAYLIGHT
TZOFFSETFROM:-0600
TZOFFSETTO:-0500
TZNAME:CDT
DTSTART:20230312T080000
END:DAYLIGHT
BEGIN:STANDARD
TZOFFSETFROM:-0500
TZOFFSETTO:-0600
TZNAME:CST
DTSTART:20231105T070000
END:STANDARD
END:VTIMEZONE
BEGIN:VEVENT
DTSTART;TZID=America/Chicago:20230801T080000
DTEND;TZID=America/Chicago:20230805T233000
DTSTAMP:20220906T193542
CREATED:20210414T233701Z
LAST-MODIFIED:20220815T000015Z
UID:80274-1690876800-1691278200@www.bcca.com
SUMMARY:NABA Convention 52 - Schaumburg\, Illinios
DESCRIPTION:Registration is required for members and guests for optional activities. Registration includes Hospitality Room Snacks and Beverages; Room-to-Room Trading; Seminars; Friday Auction\, Craft Beer Tasting\, Banquet & Speakeasy After Party; Early Admission to the Saturday Public Show\, and Luncheon following. \nClick Here for Full Details
URL:https://www.bcca.com/event2/naba-convention/
LOCATION:Hyatt Regency Schaumburg\, 1800 E Golf Rd\, Schaumburg\, IL\, 60173\, United States
CATEGORIES:Illinois,NABA
ATTACH;FMTTYPE=image/png:https://www.bcca.com/wp-content/uploads/2021/04/Chicago-Convention-Logo.png
ORGANIZER;CN="NABA":MAILTO:jfo@mindspring.com
GEO:42.0525776;-88.0334046
X-APPLE-STRUCTURED-LOCATION;VALUE=URI;X-ADDRESS=Hyatt Regency Schaumburg 1800 E Golf Rd Schaumburg IL 60173 United States;X-APPLE-RADIUS=500;X-TITLE=1800 E Golf Rd:geo:-88.0334046,42.0525776
END:VEVENT
END:VCALENDAR