BEGIN:VCALENDAR
VERSION:2.0
PRODID:-//Brewery Collectibles Club of America® - ECPv5.16.4//NONSGML v1.0//EN
CALSCALE:GREGORIAN
METHOD:PUBLISH
X-ORIGINAL-URL:https://www.bcca.com
X-WR-CALDESC:Events for Brewery Collectibles Club of America®
REFRESH-INTERVAL;VALUE=DURATION:PT1H
X-Robots-Tag:noindex
X-PUBLISHED-TTL:PT1H
BEGIN:VTIMEZONE
TZID:America/Detroit
BEGIN:DAYLIGHT
TZOFFSETFROM:-0500
TZOFFSETTO:-0400
TZNAME:EDT
DTSTART:20220313T070000
END:DAYLIGHT
BEGIN:STANDARD
TZOFFSETFROM:-0400
TZOFFSETTO:-0500
TZNAME:EST
DTSTART:20221106T060000
END:STANDARD
END:VTIMEZONE
BEGIN:VEVENT
DTSTART;TZID=America/Detroit:20220722T090000
DTEND;TZID=America/Detroit:20220723T140000
DTSTAMP:20220906T063531
CREATED:20210212T020331Z
LAST-MODIFIED:20220131T014248Z
UID:79236-1658480400-1658584800@www.bcca.com
SUMMARY:Summerswap - Sponsored by the Michigan and Rusty Bunch Chapters
DESCRIPTION:Come join the fun in Frankenmuth\, Michigan this July for the annual Summerswap Show sponsored by the Michigan and Rusty Bunch Chapters . \nThe Public is invited to walk-in free of charge to look around.  (Please sign in at registration desk first).  Hospitality is available for those that want it for a fee. \nThis two-day buy/sell/trade event is going to be held outdoors (rain or shine) on the grounds of the Frankenmuth American Legion Hall and adjacent park.  There is plenty of room for all that want to attend.  You must bring your own awnings and tables for set up.  (anything left overnight is at vendors own risk) \nWith collectors buying and selling things from across the country\, you are sure to find something new for your collection\, bar or man-cave.  This is a family friendly event and we encourage you to bring the young collectors to take part. \nWe will be having a raffle each day with many beer can and advertising  related items.  Expect nice cans\, neons\, lighted signs and collectors steins.  There will be something for everyone.   Every paid guest will also receive a chance at one of the many door prizes. \nPlease use fliers or website to register ahead of time.  This helps us provide the ultimate experience for those attending. \n2022 Summerswap 2-page flier
URL:https://www.bcca.com/event2/summerswap/
LOCATION:Frankenmuth American Legion Hall Post 150\, 990 Flint Street\, Frankenmuth\, MI\, 48734\, United States
CATEGORIES:BCCA Chapter Show,Michigan
ATTACH;FMTTYPE=image/png:https://www.bcca.com/wp-content/uploads/2020/09/michigan.png
ORGANIZER;CN="Clayton%20Emery":MAILTO:claytonemery32806@aol.com
GEO:43.322054;-83.7444412
X-APPLE-STRUCTURED-LOCATION;VALUE=URI;X-ADDRESS=Frankenmuth American Legion Hall Post 150 990 Flint Street Frankenmuth MI 48734 United States;X-APPLE-RADIUS=500;X-TITLE=990 Flint Street:geo:-83.7444412,43.322054
END:VEVENT
BEGIN:VEVENT
DTSTART;TZID=America/Detroit:20220611T090000
DTEND;TZID=America/Detroit:20220611T130000
DTSTAMP:20220906T063531
CREATED:20210511T162427Z
LAST-MODIFIED:20220318T024527Z
UID:80941-1654938000-1654952400@www.bcca.com
SUMMARY:50th Annual Brewery Advertising & Beer Can Show – Sponsored by Stroh’s Fire-Brewed Chapter
DESCRIPTION:Indoor / Outdoor Event \nstroh-2022\n 
URL:https://www.bcca.com/event2/strohs-fb-show/
LOCATION:Knights of Columbus Wyandotte Council\, 3530 Biddle Ave.\, Wyandotte\, MI\, 48192\, United States
CATEGORIES:BCCA Chapter Show,Michigan
ATTACH;FMTTYPE=image/png:https://www.bcca.com/wp-content/uploads/2020/09/Stroh.png
ORGANIZER;CN="Rich%20Daniels":MAILTO:rdaniels1340@wowway.com
GEO:42.1972824;-83.1525881
X-APPLE-STRUCTURED-LOCATION;VALUE=URI;X-ADDRESS=Knights of Columbus Wyandotte Council 3530 Biddle Ave. Wyandotte MI 48192 United States;X-APPLE-RADIUS=500;X-TITLE=3530 Biddle Ave.:geo:-83.1525881,42.1972824
END:VEVENT
BEGIN:VEVENT
DTSTART;TZID=America/Detroit:20220521T090000
DTEND;TZID=America/Detroit:20220521T130000
DTSTAMP:20220906T063531
CREATED:20210327T220548Z
LAST-MODIFIED:20220228T235140Z
UID:80038-1653123600-1653138000@www.bcca.com
SUMMARY:Patrick Henry Kalamazoo - Sponsored by the Patrick Henry Chapter BCCA & NABA
DESCRIPTION:Patrick Henry Breweriana Show\nSATURDAY\, May 21\, 2022\nBell’s Eccentric Café\n355 East Kalamazoo Avenue\nKalamazoo\, MI 49006\nSATURDAY – THE SHOW IS “FREE” to walk-ins\nFROM 9 AM UNTIL 1:00 PM\nSET-UP on Saturday from 8:00 to 9 AM! \nBells-Show-2022
URL:https://www.bcca.com/event2/patrick-henry/
LOCATION:Bell’s Eccentric Cafe\, 355 Kalamazoo\, Kalamazoo\, MI\, 49007\, United States
CATEGORIES:BCCA Chapter Show,Michigan
ATTACH;FMTTYPE=image/png:https://www.bcca.com/wp-content/uploads/2018/11/PH.png
ORGANIZER;CN="Bill%20Norton":MAILTO:bcsanorton@tds.net
GEO:42.2949526;-85.5789292
X-APPLE-STRUCTURED-LOCATION;VALUE=URI;X-ADDRESS=Bell’s Eccentric Cafe 355 Kalamazoo Kalamazoo MI 49007 United States;X-APPLE-RADIUS=500;X-TITLE=355 Kalamazoo:geo:-85.5789292,42.2949526
END:VEVENT
BEGIN:VEVENT
DTSTART;TZID=America/Detroit:20220115T080000
DTEND;TZID=America/Detroit:20220115T140000
DTSTAMP:20220906T063531
CREATED:20201005T231450Z
LAST-MODIFIED:20211021T010233Z
UID:75749-1642233600-1642255200@www.bcca.com
SUMMARY:Winterfest - Sponsored by the Michigan Chapter
DESCRIPTION:Come join us in this indoor beer can and breweriana Buy/Sell/Trade show. \nWe will be prepared to bring you the usual Michigan Chapter hospitality throughout the day. \nWe will have a raffle with a great beer can and breweriana advertising items. \nThe public is welcome to walk-in for free without hospitality. \nRegistration Now Available: Click Here \nWinterfest 2022
URL:https://www.bcca.com/event2/winterfest-sponsored-by-the-michigan-chapter/
LOCATION:Frankenmuth American Legion Hall Post 150\, 990 Flint Street\, Frankenmuth\, MI\, 48734\, United States
CATEGORIES:BCCA Chapter Show,Michigan
ATTACH;FMTTYPE=image/png:https://www.bcca.com/wp-content/uploads/2020/09/michigan.png
ORGANIZER;CN="Clayton%20Emery":MAILTO:claytonemery32806@aol.com
GEO:43.322054;-83.7444412
X-APPLE-STRUCTURED-LOCATION;VALUE=URI;X-ADDRESS=Frankenmuth American Legion Hall Post 150 990 Flint Street Frankenmuth MI 48734 United States;X-APPLE-RADIUS=500;X-TITLE=990 Flint Street:geo:-83.7444412,43.322054
END:VEVENT
END:VCALENDAR