BEGIN:VCALENDAR
VERSION:2.0
PRODID:-//Brewery Collectibles Club of America® - ECPv5.16.4//NONSGML v1.0//EN
CALSCALE:GREGORIAN
METHOD:PUBLISH
X-WR-CALNAME:Brewery Collectibles Club of America®
X-ORIGINAL-URL:https://www.bcca.com
X-WR-CALDESC:Events for Brewery Collectibles Club of America®
REFRESH-INTERVAL;VALUE=DURATION:PT1H
X-Robots-Tag:noindex
X-PUBLISHED-TTL:PT1H
BEGIN:VTIMEZONE
TZID:America/Denver
BEGIN:DAYLIGHT
TZOFFSETFROM:-0700
TZOFFSETTO:-0600
TZNAME:MDT
DTSTART:20220313T090000
END:DAYLIGHT
BEGIN:STANDARD
TZOFFSETFROM:-0600
TZOFFSETTO:-0700
TZNAME:MST
DTSTART:20221106T080000
END:STANDARD
END:VTIMEZONE
BEGIN:VEVENT
DTSTART;TZID=America/Denver:20220917T110000
DTEND;TZID=America/Denver:20220917T140000
DTSTAMP:20220906T064834
CREATED:20200818T112355Z
LAST-MODIFIED:20220720T233841Z
UID:73450-1663412400-1663423200@www.bcca.com
SUMMARY:Columbine Fall Show - Sponsored by the Columbine Chapter
DESCRIPTION:Indoor B/S/T show; free admission and tables; beverage and food service available; breweriana raffle at the end of the show. \n 
URL:https://www.bcca.com/event2/columbine-fall-show/
LOCATION:JJ’s Place\, 2340 S Chambers Rd\, Aurora\, CO\, 80014\, United States
CATEGORIES:BCCA Chapter Show,Colorado
ATTACH;FMTTYPE=image/png:https://www.bcca.com/wp-content/uploads/2020/09/columbine.png
ORGANIZER;CN="Jim%20McCoy":MAILTO:jimrealone@gmail.com
GEO:39.6738053;-104.8094849
X-APPLE-STRUCTURED-LOCATION;VALUE=URI;X-ADDRESS=JJ’s Place 2340 S Chambers Rd Aurora CO 80014 United States;X-APPLE-RADIUS=500;X-TITLE=2340 S Chambers Rd:geo:-104.8094849,39.6738053
END:VEVENT
END:VCALENDAR