BEGIN:VCALENDAR
VERSION:2.0
PRODID:-//Brewery Collectibles Club of America® - ECPv5.16.4//NONSGML v1.0//EN
CALSCALE:GREGORIAN
METHOD:PUBLISH
X-ORIGINAL-URL:https://www.bcca.com
X-WR-CALDESC:Events for Brewery Collectibles Club of America®
REFRESH-INTERVAL;VALUE=DURATION:PT1H
X-Robots-Tag:noindex
X-PUBLISHED-TTL:PT1H
BEGIN:VTIMEZONE
TZID:America/Detroit
BEGIN:DAYLIGHT
TZOFFSETFROM:-0500
TZOFFSETTO:-0400
TZNAME:EDT
DTSTART:20220313T070000
END:DAYLIGHT
BEGIN:STANDARD
TZOFFSETFROM:-0400
TZOFFSETTO:-0500
TZNAME:EST
DTSTART:20221106T060000
END:STANDARD
END:VTIMEZONE
BEGIN:VEVENT
DTSTART;TZID=America/Detroit:20220908T080000
DTEND;TZID=America/Detroit:20220910T230000
DTSTAMP:20220906T065015
CREATED:20210302T003225Z
LAST-MODIFIED:20220215T234840Z
UID:79427-1662624000-1662850800@www.bcca.com
SUMMARY:BCCA CANvention 51 - Norfolk\, VA.
DESCRIPTION:CANvention is the BCCA’s biggest collector event\, drawing breweriana collectors from around the U.S.\, Canada and the world. Nearly 1\,000 members share several days of trading\, buying\, selling\, socializing\, sampling and enjoying the attractions of the host city. \nClick here for more information
URL:https://www.bcca.com/event2/bcca-canvention/
LOCATION:Hilton Norfolk The Main\, 100 E Main St\, Norfolk\, VA\, 23510\, United States
CATEGORIES:CANvention,Virginia
ATTACH;FMTTYPE=image/jpeg:https://www.bcca.com/wp-content/uploads/2020/03/BCCAlogo.jpg
ORGANIZER;CN="BCCA":MAILTO:bcca@bcca.com
GEO:36.8464518;-76.2921155
X-APPLE-STRUCTURED-LOCATION;VALUE=URI;X-ADDRESS=Hilton Norfolk The Main 100 E Main St Norfolk VA 23510 United States;X-APPLE-RADIUS=500;X-TITLE=100 E Main St:geo:-76.2921155,36.8464518
END:VEVENT
END:VCALENDAR