BEGIN:VCALENDAR
VERSION:2.0
PRODID:-//Brewery Collectibles Club of America® - ECPv5.16.4//NONSGML v1.0//EN
CALSCALE:GREGORIAN
METHOD:PUBLISH
X-ORIGINAL-URL:https://www.bcca.com
X-WR-CALDESC:Events for Brewery Collectibles Club of America®
REFRESH-INTERVAL;VALUE=DURATION:PT1H
X-Robots-Tag:noindex
X-PUBLISHED-TTL:PT1H
BEGIN:VTIMEZONE
TZID:America/Los_Angeles
BEGIN:DAYLIGHT
TZOFFSETFROM:-0800
TZOFFSETTO:-0700
TZNAME:PDT
DTSTART:20220313T100000
END:DAYLIGHT
BEGIN:STANDARD
TZOFFSETFROM:-0700
TZOFFSETTO:-0800
TZNAME:PST
DTSTART:20221106T090000
END:STANDARD
END:VTIMEZONE
BEGIN:VEVENT
DTSTART;TZID=America/Los_Angeles:20221015T090000
DTEND;TZID=America/Los_Angeles:20221015T140000
DTSTAMP:20220906T064627
CREATED:20200914T220425Z
LAST-MODIFIED:20220123T171802Z
UID:74178-1665824400-1665842400@www.bcca.com
SUMMARY:38th Annual Western States Beer Can & Breweriana Show ("New Watsonville Show")  - Sponsored by the 49er Chapter
DESCRIPTION:Outdoor tailgate party-style show in a large private brewery parking lot in sunny Oakland at Old Kan Beer Co. for the 3rd Year Running! Food and Beer available for purchase. Bring your own tables & blankets to spread out your stuff. You get one parking spot for your vehicle and an adjacent spot to spread out. \nHost Hotel for Friday Night Room-to-Room – Hilton Garden Inn\, 510 Lewelling Avenue\, San Leandro\, CA (breakfast buffet & special room rates 510-343-8105 use “49er Chapter” code)
URL:https://www.bcca.com/event2/western-regional/
LOCATION:Old Kan Beer & Co.\, 95 Linden Street\, Oakland\, CA\, 94607\, United States
CATEGORIES:BCCA Chapter Show,California
ATTACH;FMTTYPE=image/png:https://www.bcca.com/wp-content/uploads/2020/09/49er.png
ORGANIZER;CN="Ken%20Harootunian":MAILTO:kenharootunian@yahoo.com
GEO:37.7994835;-122.2881734
X-APPLE-STRUCTURED-LOCATION;VALUE=URI;X-ADDRESS=Old Kan Beer & Co. 95 Linden Street Oakland CA 94607 United States;X-APPLE-RADIUS=500;X-TITLE=95 Linden Street:geo:-122.2881734,37.7994835
END:VEVENT
END:VCALENDAR