BEGIN:VCALENDAR
VERSION:2.0
PRODID:-//Brewery Collectibles Club of America® - ECPv5.16.4//NONSGML v1.0//EN
CALSCALE:GREGORIAN
METHOD:PUBLISH
X-WR-CALNAME:Brewery Collectibles Club of America®
X-ORIGINAL-URL:https://www.bcca.com
X-WR-CALDESC:Events for Brewery Collectibles Club of America®
REFRESH-INTERVAL;VALUE=DURATION:PT1H
X-Robots-Tag:noindex
X-PUBLISHED-TTL:PT1H
BEGIN:VTIMEZONE
TZID:America/Los_Angeles
BEGIN:DAYLIGHT
TZOFFSETFROM:-0800
TZOFFSETTO:-0700
TZNAME:PDT
DTSTART:20210314T100000
END:DAYLIGHT
BEGIN:STANDARD
TZOFFSETFROM:-0700
TZOFFSETTO:-0800
TZNAME:PST
DTSTART:20211107T090000
END:STANDARD
BEGIN:DAYLIGHT
TZOFFSETFROM:-0800
TZOFFSETTO:-0700
TZNAME:PDT
DTSTART:20220313T100000
END:DAYLIGHT
BEGIN:STANDARD
TZOFFSETFROM:-0700
TZOFFSETTO:-0800
TZNAME:PST
DTSTART:20221106T090000
END:STANDARD
END:VTIMEZONE
BEGIN:VEVENT
DTSTART;TZID=America/Los_Angeles:20220430T090000
DTEND;TZID=America/Los_Angeles:20220430T130000
DTSTAMP:20220906T064649
CREATED:20220123T164817Z
LAST-MODIFIED:20220123T165257Z
UID:85535-1651309200-1651323600@www.bcca.com
SUMMARY:Breweriana & BBQ at Lefty's Tap Room - Sponsored by the 49er Chapter
DESCRIPTION:The Annual Spring Trade Show at a new venue\, Lefty’s Tap Room\, home of the best BBQ in Sacramento \nHost Hotel information for Friday Night Room to Room forthcoming
URL:https://www.bcca.com/event2/49er-april/
LOCATION:Lefty’s Tap Room\, 5612 Elvas Avenue\, Sacramento\, CA\, 95819\, United States
CATEGORIES:BCCA Chapter Show,California
ATTACH;FMTTYPE=image/png:https://www.bcca.com/wp-content/uploads/2020/09/49er.png
ORGANIZER;CN="Ken%20Harootunian":MAILTO:kenharootunian@yahoo.com
GEO:38.5700891;-121.4336491
X-APPLE-STRUCTURED-LOCATION;VALUE=URI;X-ADDRESS=Lefty’s Tap Room 5612 Elvas Avenue Sacramento CA 95819 United States;X-APPLE-RADIUS=500;X-TITLE=5612 Elvas Avenue:geo:-121.4336491,38.5700891
END:VEVENT
BEGIN:VEVENT
DTSTART;TZID=America/Los_Angeles:20210626T090000
DTEND;TZID=America/Los_Angeles:20210626T140000
DTSTAMP:20220906T064649
CREATED:20210522T235752Z
LAST-MODIFIED:20210523T000818Z
UID:81182-1624698000-1624716000@www.bcca.com
SUMMARY:49er Chapter Beer Can & Breweriana Show - West Sacramento\, California
DESCRIPTION:Contact Larry LaDuc: Trusttherust83@gmail.com \n49er Chapter Vintage Breweriana Show at the Jack Rabbit Brewing Company in West Sacramento: Beer Cans\, Beer Signs\, bottles\, trays\, tap knobs\, antique advertising… Everything related to the history of beer and brewing – past to present! Bring a friend! \n$20 tables pre-register/ $25 day of the show. Free walk-in admission!
URL:https://www.bcca.com/event2/49er-west-sacramento-california/
LOCATION:Jack Rabbit Brewing Company\, 1323 Terminal Street\, West Sacramento\, CA\, 95691\, United States
CATEGORIES:BCCA Chapter Show,California
ATTACH;FMTTYPE=image/png:https://www.bcca.com/wp-content/uploads/2020/09/49er.png
ORGANIZER;CN="Larry%20Laduc":MAILTO:trusttherust83@gmail.com
GEO:38.5720287;-121.5411352
X-APPLE-STRUCTURED-LOCATION;VALUE=URI;X-ADDRESS=Jack Rabbit Brewing Company 1323 Terminal Street West Sacramento CA 95691 United States;X-APPLE-RADIUS=500;X-TITLE=1323 Terminal Street:geo:-121.5411352,38.5720287
END:VEVENT
END:VCALENDAR