BEGIN:VCALENDAR
VERSION:2.0
PRODID:-//Brewery Collectibles Club of America® - ECPv5.16.4//NONSGML v1.0//EN
CALSCALE:GREGORIAN
METHOD:PUBLISH
X-ORIGINAL-URL:https://www.bcca.com
X-WR-CALDESC:Events for Brewery Collectibles Club of America®
REFRESH-INTERVAL;VALUE=DURATION:PT1H
X-Robots-Tag:noindex
X-PUBLISHED-TTL:PT1H
BEGIN:VTIMEZONE
TZID:America/Chicago
BEGIN:DAYLIGHT
TZOFFSETFROM:-0600
TZOFFSETTO:-0500
TZNAME:CDT
DTSTART:20230312T080000
END:DAYLIGHT
BEGIN:STANDARD
TZOFFSETFROM:-0500
TZOFFSETTO:-0600
TZNAME:CST
DTSTART:20231105T070000
END:STANDARD
END:VTIMEZONE
BEGIN:VEVENT
DTSTART;TZID=America/Chicago:20230226T090000
DTEND;TZID=America/Chicago:20230226T140000
DTSTAMP:20220906T064219
CREATED:20200918T174503Z
LAST-MODIFIED:20220807T195855Z
UID:74453-1677402000-1677420000@www.bcca.com
SUMMARY:The Vic Olson Memorial Show - Sponsored by the AR-CAN-SAS and Missouri Ozark Chapters
DESCRIPTION:Buy/sell/trade. Admission is free and tables are $5 each. \nVic-Olsen-2023
URL:https://www.bcca.com/event2/vic-olsen-memorial/
LOCATION:Best Western Inn of the Ozarks\, 207 W. Van Buren\, Eureka Springs\, AR\, 72632\, United States
CATEGORIES:Arkansas,BCCA Chapter Show
ATTACH;FMTTYPE=image/jpeg:https://www.bcca.com/wp-content/uploads/2015/06/ArCanSas.jpg
ORGANIZER;CN="Erin%20Jones":MAILTO:erinjbrew1002@aol.com
GEO:36.3964949;-93.6899088
X-APPLE-STRUCTURED-LOCATION;VALUE=URI;X-ADDRESS=Best Western Inn of the Ozarks 207 W. Van Buren Eureka Springs AR 72632 United States;X-APPLE-RADIUS=500;X-TITLE=207 W. Van Buren:geo:-93.6899088,36.3964949
END:VEVENT
END:VCALENDAR