BEGIN:VCALENDAR
VERSION:2.0
PRODID:-//Brewery Collectibles Club of America® - ECPv5.16.4//NONSGML v1.0//EN
CALSCALE:GREGORIAN
METHOD:PUBLISH
X-WR-CALNAME:Brewery Collectibles Club of America®
X-ORIGINAL-URL:https://www.bcca.com
X-WR-CALDESC:Events for Brewery Collectibles Club of America®
REFRESH-INTERVAL;VALUE=DURATION:PT1H
X-Robots-Tag:noindex
X-PUBLISHED-TTL:PT1H
BEGIN:VTIMEZONE
TZID:America/Chicago
BEGIN:DAYLIGHT
TZOFFSETFROM:-0600
TZOFFSETTO:-0500
TZNAME:CDT
DTSTART:20220313T080000
END:DAYLIGHT
BEGIN:STANDARD
TZOFFSETFROM:-0500
TZOFFSETTO:-0600
TZNAME:CST
DTSTART:20221106T070000
END:STANDARD
END:VTIMEZONE
BEGIN:VEVENT
DTSTART;TZID=America/Chicago:20221016T090000
DTEND;TZID=America/Chicago:20221016T150000
DTSTAMP:20220906T190836
CREATED:20191110T025442Z
LAST-MODIFIED:20211130T001759Z
UID:68937-1665910800-1665932400@www.bcca.com
SUMMARY:Prison City Chapter Trade Session - Sponsored by the Prison City Chapter
DESCRIPTION:Buy / sell / trade session in the Knight’s of Columbus hall. Hall opens at 8am for set up\, easy in and out\, plenty of parking. Show runs from 9am until 3pm. Barb’s famous chili\, hot dogs\, and chili dogs served for lunch\, cash bar with Bernie’s famous Bloody Marys !!! Large raffle around 1pm with lots of craft beer and breweriana !!! As always\, raffle donations are greatly appreciated !
URL:https://www.bcca.com/event2/prison-city-oct/
LOCATION:Knight’s of Columbus 4400\, 1813 E. Cass Street (Route 30)\, Joliet\, IL\, 60432\, United States
CATEGORIES:BCCA Chapter Show,Illinois
ATTACH;FMTTYPE=image/jpeg:https://www.bcca.com/wp-content/uploads/2015/06/Prison-City.jpg
ORGANIZER;CN="Willy%20Novak":MAILTO:OldstyleWilly@att.net
GEO:41.5300134;-88.0377623
X-APPLE-STRUCTURED-LOCATION;VALUE=URI;X-ADDRESS=Knight’s of Columbus 4400 1813 E. Cass Street (Route 30) Joliet IL 60432 United States;X-APPLE-RADIUS=500;X-TITLE=1813 E. Cass Street (Route 30):geo:-88.0377623,41.5300134
END:VEVENT
BEGIN:VEVENT
DTSTART;TZID=America/Chicago:20221016T090000
DTEND;TZID=America/Chicago:20221016T150000
DTSTAMP:20220906T190836
CREATED:20210810T222607Z
LAST-MODIFIED:20220407T213046Z
UID:82641-1665910800-1665932400@www.bcca.com
SUMMARY:Port of Potosi Flea Market - Sponsored by the Port of Potosi Chapter
DESCRIPTION:On Oct. 16th the Port of Potosi will be hosting their annual flea market in the Potosi Brewery Parking lot at 209 S Main St. Potosi\, Wi. The show hours are from 9am – 3pm rain or shine. For more information contact Mike Kress at 608-642-0321 or 608-763-2042.
URL:https://www.bcca.com/event2/port-of-potosi-flea-market/
LOCATION:Potosi Brewery\, 209 S Main St\, Potosi\, WI\, 53820\, United States
CATEGORIES:BCCA Chapter Show,Wisconsin
ATTACH;FMTTYPE=image/png:https://www.bcca.com/wp-content/uploads/2020/09/portpotosi.png
GEO:42.6756826;-90.7250699
X-APPLE-STRUCTURED-LOCATION;VALUE=URI;X-ADDRESS=Potosi Brewery 209 S Main St Potosi WI 53820 United States;X-APPLE-RADIUS=500;X-TITLE=209 S Main St:geo:-90.7250699,42.6756826
END:VEVENT
END:VCALENDAR