BEGIN:VCALENDAR
VERSION:2.0
PRODID:-//Brewery Collectibles Club of America® - ECPv5.16.4//NONSGML v1.0//EN
CALSCALE:GREGORIAN
METHOD:PUBLISH
X-ORIGINAL-URL:https://www.bcca.com
X-WR-CALDESC:Events for Brewery Collectibles Club of America®
REFRESH-INTERVAL;VALUE=DURATION:PT1H
X-Robots-Tag:noindex
X-PUBLISHED-TTL:PT1H
BEGIN:VTIMEZONE
TZID:America/Chicago
BEGIN:DAYLIGHT
TZOFFSETFROM:-0600
TZOFFSETTO:-0500
TZNAME:CDT
DTSTART:20220313T080000
END:DAYLIGHT
BEGIN:STANDARD
TZOFFSETFROM:-0500
TZOFFSETTO:-0600
TZNAME:CST
DTSTART:20221106T070000
END:STANDARD
END:VTIMEZONE
BEGIN:VEVENT
DTSTART;VALUE=DATE:20220624
DTEND;VALUE=DATE:20220627
DTSTAMP:20220906T180029
CREATED:20210303T224924Z
LAST-MODIFIED:20220130T001816Z
UID:79515-1656028800-1656287999@www.bcca.com
SUMMARY:43rd Annual Kansas Kolossal Kan Kaper – Sponsored by Carrie Nation and KC’s Best Chapters
DESCRIPTION:“Still the BIGGEST BEER CAN AND BREWERIANA SHOW IN KANSAS”\nNOTE: We are at a new hotel this year. See flyer attached. \nWe gather at the hotel on Friday afternoon/evening for socializing under the shade trees and gazebo. Saturday\, the trade show is at Thomas Park. Plenty of cans\, breweriana\, fun\, and 2 LARGE RAFFLES.\nLunch is included in the low price of $15.00 which also includes the Famous Margarita Party and snacks back at the hotel Saturday evening. Sunday\, gather at the hotel for coffee\, wrapped pastries and final prizes \nsalinaflyer-2022
URL:https://www.bcca.com/event2/kolossal-kan-kaper/
LOCATION:Candlewood Suites Salina\, 2650 Planet Avenue\, Salina\, KS\, 67401\, United States
CATEGORIES:BCCA Chapter Show,Kansas
ATTACH;FMTTYPE=image/jpeg:https://www.bcca.com/wp-content/uploads/2021/03/kccarrie.jpg
ORGANIZER;CN="Bill%20Boyles":MAILTO:wlboyles@sbcglobal.net
GEO:38.7914909;-97.6157848
X-APPLE-STRUCTURED-LOCATION;VALUE=URI;X-ADDRESS=Candlewood Suites Salina 2650 Planet Avenue Salina KS 67401 United States;X-APPLE-RADIUS=500;X-TITLE=2650 Planet Avenue:geo:-97.6157848,38.7914909
END:VEVENT
END:VCALENDAR